BEGIN:VCALENDAR
VERSION:2.0
METHOD:PUBLISH
PRODID:- PBCS IT-News //NONSGML Events //EN
CALSCALE:GREGORIAN
X-WR-CALNAME:ICAL-BLOG
BEGIN:VEVENT
UID:039f189b-dee0-4526-ba57-2fa12453afea
DTSTAMP:20260424T170503Z
CREATED:20260424T170503Z
SUMMARY:Halloween Updates
DESCRIPTION:https://wp.pbcs.de/halloween-updates/ - Artikel vom: So.\, 30. Oktober 2016\, 16:53:18 - Zuerst veröffentlichte Adobe ein Notfall Sicherheitsupdate (das aber bei Google Chrome schon etwa eine Woche vorher integriert war). Neben einem neuen Office Insider build 7521.1000 gab es ein zweites kumulatives Update für Oktober. Windows 1511 ist damit auf Version .351. Allen Lesern in katholischen Bundesländern wünsche ich ein schreckfreies Halloween und einen ruhigen Allerheiligen. Zuletzt bekam der Faststone Image Viewer eine runde Version 6.0. Mehr Details zu Versionsupdates finden Sie unter der Apps Kachel oder Sie abonnieren den RSS-Feed dazu. (Post ID:1039)
LOCATION:https://wp.pbcs.de
CATEGORIES:Gelbe Kategorie
TRANSP:TRANSPARENT
X-MICROSOFT-CDO-BUSYSTATUS:FREE
SEQUENCE:0
CLASS:PUBLIC
PRIORITY:1
DTSTART:20260425T070000Z
DTEND:20260425T080000Z
BEGIN:VALARM
TRIGGER:-PT30M
ACTION:DISPLAY
DESCRIPTION:Reminder for Halloween Updates
END:VALARM
END:VEVENT
END:VCALENDAR
