BEGIN:VCALENDAR
VERSION:2.0
METHOD:PUBLISH
PRODID:- PBCS IT-News //NONSGML Events //EN
CALSCALE:GREGORIAN
X-WR-CALNAME:ICAL-FTAG
BEGIN:VEVENT
UID:c8c64219-1688-4daf-a545-0653da781377
DTSTAMP:20260422T234801Z
CREATED:20260422T234801Z
SUMMARY:Grußkarten
DESCRIPTION:https://wp.pbcs.de/grusskarten/ - Artikel vom: Mi.\, 21. Januar 2026\, 12:02:00 - [grusskarte disablegui=1]
LOCATION:https://wp.pbcs.de
CATEGORIES:Gelbe Kategorie
TRANSP:TRANSPARENT
X-MICROSOFT-CDO-BUSYSTATUS:FREE
SEQUENCE:0
CLASS:PUBLIC
PRIORITY:1
DTSTART:20260121T110200Z
DTEND:20260121T120200Z
BEGIN:VALARM
TRIGGER:-PT30M
ACTION:DISPLAY
DESCRIPTION:Reminder for Grußkarten
END:VALARM
END:VEVENT
END:VCALENDAR
