BEGIN:VCALENDAR
VERSION:2.0
METHOD:PUBLISH
PRODID:- PBCS IT-News //NONSGML Events //EN
CALSCALE:GREGORIAN
X-WR-CALNAME:ICAL-BLOG
BEGIN:VEVENT
UID:a0788bf4-e079-4ab1-98a5-157d12d4e3d0
DTSTAMP:20260425T121944Z
CREATED:20260425T121944Z
SUMMARY:Grußkarten
DESCRIPTION:https://wp.pbcs.de/grusskarten/ - Artikel vom: Mi.\, 21. Januar 2026\, 12:02:00 - [grusskarte disablegui=1]
LOCATION:https://wp.pbcs.de
CATEGORIES:Gelbe Kategorie
TRANSP:TRANSPARENT
X-MICROSOFT-CDO-BUSYSTATUS:FREE
SEQUENCE:0
CLASS:PUBLIC
PRIORITY:1
DTSTART:20260426T070000Z
DTEND:20260426T080000Z
BEGIN:VALARM
TRIGGER:-PT30M
ACTION:DISPLAY
DESCRIPTION:Reminder for Grußkarten
END:VALARM
END:VEVENT
END:VCALENDAR
