BEGIN:VCALENDAR
VERSION:2.0
METHOD:PUBLISH
PRODID:- PBCS IT-News //NONSGML Events //EN
CALSCALE:GREGORIAN
X-WR-CALNAME:ICAL-BLOG
BEGIN:VEVENT
UID:9b21175c-900d-43f3-9ee9-50209c2ca46d
DTSTAMP:20260424T232819Z
CREATED:20260424T232819Z
SUMMARY:Glossar
DESCRIPTION:https://wp.pbcs.de/glossar/ - Artikel vom: Sa.\, 15. April 2023\, 12:31:31 - Glossar - Lexikon aller Themen
LOCATION:https://wp.pbcs.de
CATEGORIES:Gelbe Kategorie
TRANSP:TRANSPARENT
X-MICROSOFT-CDO-BUSYSTATUS:FREE
SEQUENCE:0
CLASS:PUBLIC
PRIORITY:1
DTSTART:20260425T070000Z
DTEND:20260425T080000Z
BEGIN:VALARM
TRIGGER:-PT30M
ACTION:DISPLAY
DESCRIPTION:Reminder for Glossar
END:VALARM
END:VEVENT
END:VCALENDAR
