BEGIN:VCALENDAR
VERSION:2.0
METHOD:PUBLISH
PRODID:- PBCS IT-News //NONSGML Events //EN
CALSCALE:GREGORIAN
X-WR-CALNAME:ICAL-BLOG
BEGIN:VEVENT
UID:cf768041-c685-4a3c-a3ee-361301f50fd0
DTSTAMP:20260424T234039Z
CREATED:20260424T234039Z
SUMMARY:Gestatten: Sora
DESCRIPTION:https://wp.pbcs.de/gestatten-sora/ - Artikel vom: Fr.\, 18. April 2025\, 20:05:23 - Nein\, kein Bond-Girl\, sondern eine (noch) experimenteller Algorithmus der #KI von OpenAI\, mit dem man Remixe aus Bildern erstellen kann. So wird aus dem eigenen Konterfei beispielsweise ein Kinoplakat oder man sitzt im Oval Office. Inspiration kann man sich in der Galerie holen. 6 Bilder pro Tag sind mit dem kostenlosen Konto möglich. Wie auch diese beiden Filmplakate aus der Sysko-Reihe. Die Kehrseite der Medaille: Diese Algorithmen sind mittlerweile schon ziemlich weit. Leider sind so auch Deep Fakes möglich. Man muss also aufpassen\, wenn man Bilder in den Medien sieht\, wie weit sie echt sind. Deshalb ist hier auch alles mit "KI" getaggt\, was von der KI mit meinem Gesicht erstellt wurde.\n \nWer auch Videos erstellen möchte\, muss einen der Bezahlpläne haben. Damit lassen sich allerdings nur kurze Clips erstellen. Mit der Profilizenz sollen auch längere Videos mit Ton möglich sein.
LOCATION:https://wp.pbcs.de
CATEGORIES:Gelbe Kategorie
TRANSP:TRANSPARENT
X-MICROSOFT-CDO-BUSYSTATUS:FREE
SEQUENCE:0
CLASS:PUBLIC
PRIORITY:1
DTSTART:20260425T070000Z
DTEND:20260425T080000Z
BEGIN:VALARM
TRIGGER:-PT30M
ACTION:DISPLAY
DESCRIPTION:Reminder for Gestatten: Sora
END:VALARM
END:VEVENT
END:VCALENDAR
