BEGIN:VCALENDAR
VERSION:2.0
METHOD:PUBLISH
PRODID:- PBCS IT-News //NONSGML Events //EN
CALSCALE:GREGORIAN
X-WR-CALNAME:ICAL-BLOG
BEGIN:VEVENT
UID:16e47123-9ae5-4186-915e-726d378e3113
DTSTAMP:20260424T100929Z
CREATED:20260424T100929Z
SUMMARY:Firmengeschichte
DESCRIPTION:https://wp.pbcs.de/firmengeschichte/ - Artikel vom: Mo.\, 9. März 2026\, 16:25:55 - Bereits 📅 1990 nach meiner Ausbildung zum Datenverarbeitungs-Kaufmann (IHK) und während des Informatik-Studiums gründete ich PBCS und begann meine Tätigkeit als #Technologie-Berater. Anfangs waren es Projekte in den Semesterferien und Programmieraufgaben\, seit 1995 genehmigte Nebentätigkeit (hauptamtlich bin ich in einem großen Konzern tätig). Beim TÜV Rheinland habe ich die Qualifikation als IT-Security-Manager und -Auditor erworben. Meine Schwerpunkte sind:\n \n\n#Webdesign (Erstellen und Implementieren von Internet-Präsenzen)\n \nIst-Soll Analyse (was ist vorhanden\, wie muss es zukünftig aussehen und welche Arbeiten sind dafür notwendig)\n \n#Beratung bei der Anschaffung von Hardware. Die Hardware erwerben Sie bei einem Hardware-Hersteller - DELL (Server) oder lenovo Thinkpad und ThinkCentre (Clients). Dieser übernimmt dann im Rahmen der von Ihnen bestellten Gewährleistung/Garantie den Hardware-Support.\n \nSoftware-Installation Konfiguration und Einrichtung (Server\, Datensicherung und Arbeitsplätze)\, Datenübernahme (sofern möglich) und #Einweisung in Funktionsweise und Laufzeitbetrieb.\n\n \nLeistungen\n \nWebdesignDie für Ihren Geschäftsbetrieb optimale Darstellung\, Optimierung für Suchmaschinen und Darstellung im Internet entwickeln und gestalten wir für SieWeb-Werkzeuge(auf Basis von PHP als Wordpress Erweiterungen): Zähler und Zugriffsstatistik mit grafischer Echtzeitauswertung\, Foto-Galerien mit Ausdruckmöglichkeit\, Workflows\, Countdowns und andere Werkzeuge gibt es schon\, spezielle Funktionalität kann entwickelt werden\, Umfragen und Termin-Abstimmungen\, Quizzz.FormulareKontaktformulare datenschutzkonform gestalten und SPAM reduzieren.ShopVerkaufen Sie Ihre Artikel über das Internet. Einrichtung\, Optimierung und Gestaltung Ihres Woocommerce basierten Online-ShopsBasisweblayoutDas Basisweblayout kann zur Gestaltung Ihrer Webseiten genutzt werden. Es enthält Werkzeuge\, benutzerdefinierte Einstellungen\, viele Vorlagen und Stilelemente.DokumentationMit quelloffenen Werkzeugen wird Ihr Software und Hardware-Inventar ermittelt\, ein Netzwerkplan erstellt und Optimierungspotential gesucht.Telefon-SupportUnterstützung am Wochenende und an Feiertagen bei Installation und Konfiguration\, Ferndiagnosen\, Anleitung und Einweisung (Fernwartung)\, Präventivmaßnahmen und ProblemlösungenTrainingsOptimierte Einrichtung und Anpassung\, Programmierung: Webseiten\, Office-Vorlagen und Makros\, Schulungen für Standardsoftware\, Betriebssysteme\n \nKenntnisse und Expertisen\n \nHardware:DELL (Server)\, lenovo Thinkpad (Notebooks\, AIO)\, Samsung Smartphones (android)\, Systemarchitekturen und GrundlagenBetriebssysteme:Windows Client\, Windows Server\, androidNetzwerke:LAN\, Wireless Lan\, WAN\, VPNDatenbanken:MySQL (MariaDB Community)\, PostGreSQL\, Microsoft SQL-ServerSoftwareverteilung:Softwarepaketierung mit INNOSetup\, Unattended Windows InstallationInternet:WordPress\, Web-DesignStandardsoftware:Microsoft 365 und Microsoft Office\, VisioProgrammierung:PHP\, JScript\, HTML5\, CSS\, (Microsoft Active Server Pages)\n \nBeispiele anhand durchgeführter Projekte und Projektmitwirkung\n \nInternet-Auftritteaktive Webseiten\, Layouts und Internetauftritte für Unternehmen verschiedener BranchenInventarisierungSoft- und Hardware im Netzwerk bei einem Mittelständischen Unternehmen in der AutoindustrieInfrastrukturPlanung und Durchführung der Umstellung von Novell Netware auf Windows incl. Active Directory-Konzept und MAC-Anbindung\, Unattended Installation für Windows bei einer Werbeagentur mit 60 MitarbeiternAuslandsfilialenEuropaweite Planung und Realisierung für ein Unternehmen im Bereich der ArzneimittelstudienDeploymentErstellung Automatisches Installationsverfahren Windows-basierter Betriebssysteme für ein Kreditinstitut und für kommunale ÄmterInfrastrukturImplementierung Windows-Netzwerk mit Internet-Anbindung für einen FinanzdienstleisterBeratungNovell und Windows-Umfeld\, Konzeption und Implementierung Unattended Installation-Verfahren bei einem Unternehmen mit 150 MitarbeiternKommunikationImplementierung von Unified Messaging und Anbindung an verschiedene Telefonanlagen mit Tobit David für mehrere mittelständische Industrieunternehmen und BehördenTestverfahrenApplikations-Migration auf Windows\, Active Directory Wiederherstellungs-Konzept\, Infrastruktur/Migrationskonzept Fachabteilungen für eine große VersicherungZertifizierungInfrastrukur- und Kommunikationskonzept\, Unified Messaging\, Internetanbindung\, Netzwerkdienste und Realisierung und ISO-9000-Unterstützung für ein pharmazeutisches Großhandels-UnternehmenBeratungInfrastruktur und Netzwerkplanung\, EDV-Gesamtkonzept für mehrere DienstleistungsunternehmenNetzwerkanalyseAuslagerung von Altdaten und -Software\, Optimierung und Dokumentation bei einem mittelständischen Handelsunternehmen
LOCATION:https://wp.pbcs.de
CATEGORIES:Gelbe Kategorie
TRANSP:TRANSPARENT
X-MICROSOFT-CDO-BUSYSTATUS:FREE
SEQUENCE:0
CLASS:PUBLIC
PRIORITY:1
DTSTART:20260425T070000Z
DTEND:20260425T080000Z
BEGIN:VALARM
TRIGGER:-PT30M
ACTION:DISPLAY
DESCRIPTION:Reminder for Firmengeschichte
END:VALARM
END:VEVENT
END:VCALENDAR
