BEGIN:VCALENDAR
VERSION:2.0
METHOD:PUBLISH
PRODID:- PBCS IT-News //NONSGML Events //EN
CALSCALE:GREGORIAN
X-WR-CALNAME:ICAL-BLOG
BEGIN:VEVENT
UID:1810f388-09fb-4335-86cd-fe7dba5013a5
DTSTAMP:20260424T232726Z
CREATED:20260424T232726Z
SUMMARY:Feedback
DESCRIPTION:https://wp.pbcs.de/feedback/ - Artikel vom: Mi.\, 25. September 2024\, 21:46:17 - Hier können Sie Ihr #Feedback zu einer besuchten Veranstaltung abgeben:\n \n[contact-form-7 id="5713" title="Feedback zur Veranstaltung"]
LOCATION:https://wp.pbcs.de
CATEGORIES:Gelbe Kategorie
TRANSP:TRANSPARENT
X-MICROSOFT-CDO-BUSYSTATUS:FREE
SEQUENCE:0
CLASS:PUBLIC
PRIORITY:1
DTSTART:20260425T070000Z
DTEND:20260425T080000Z
BEGIN:VALARM
TRIGGER:-PT30M
ACTION:DISPLAY
DESCRIPTION:Reminder for Feedback
END:VALARM
END:VEVENT
END:VCALENDAR
