BEGIN:VCALENDAR
VERSION:2.0
METHOD:PUBLISH
PRODID:- PBCS IT-News //NONSGML Events //EN
CALSCALE:GREGORIAN
X-WR-CALNAME:ICAL-BLOG
BEGIN:VEVENT
UID:15d043c4-c552-47fd-a002-d7049499c68b
DTSTAMP:20260421T110638Z
CREATED:20260421T110638Z
SUMMARY:Fake-Angebote auf Amazon
DESCRIPTION:https://wp.pbcs.de/fake-angebote-auf-amazon/ - Artikel vom: Mo.\, 3. Oktober 2016\, 11:53:54 - seit einigen Wochen häufen sich Angebote\, die auf der Plattform von seriösen Anbietern gelistet sind. Dabei werden meist vorhandene Artikel des Anbieters zu weniger als der Hälfte des Straßenpreises beworben (und auch bei zahlreichen Suchportalen an erster Stelle angezeigt). Im Artikeltext steht nun\, dass der Interessent eine E-Mail an Adresse X schreiben soll und nicht über sein Amazon Account bestellen. Danach bekommt man eine Rechnung\, die aussieht\, als komme sie von Amazon - ist sie natürlich nicht. Hat man das Geld erst überwiesen\, bekommt man keine Ware. Da die Artikel bei namhaften\, gelisteten Amazon Verkäufern auftauchen\, ist das jeweilige Amazon-Verkaufskonto gehackt worden. Empfehlung: Weil Einige von Ihnen die Amazon Verkaufsplattform für den Betrieb nutzen: Bitte ändern Sie Ihre Kennwörter regelmäßig (1x pro Monat) und stellen sicher\, dass es sich um ein eindeutiges\, komplexes Kennwort handelt. Haben Sie ein Amazon Konto als Käufer\, gilt das Gleiche\, denn auch Ihre Daten können missbraucht werden. Vermeiden Sie\, am Amazon Bezahlweg vorbei\, Käufe zu tätigen. Vekäufer auf Amazon dürfen keine Zahlungen per E-Mail abwickeln. (Post ID:1035)
LOCATION:https://wp.pbcs.de
CATEGORIES:Gelbe Kategorie
TRANSP:TRANSPARENT
X-MICROSOFT-CDO-BUSYSTATUS:FREE
SEQUENCE:0
CLASS:PUBLIC
PRIORITY:1
DTSTART:20260416T070000Z
DTEND:20260416T080000Z
BEGIN:VALARM
TRIGGER:-PT30M
ACTION:DISPLAY
DESCRIPTION:Reminder for Fake-Angebote auf Amazon
END:VALARM
END:VEVENT
END:VCALENDAR
