BEGIN:VCALENDAR
VERSION:2.0
METHOD:PUBLISH
PRODID:- PBCS IT-News //NONSGML Events //EN
CALSCALE:GREGORIAN
X-WR-CALNAME:ICAL-BLOG
BEGIN:VEVENT
UID:be68f133-3cbe-459c-bc6c-ed8417672a3f
DTSTAMP:20260425T014702Z
CREATED:20260425T014702Z
SUMMARY:Exchange Server angreifbar
DESCRIPTION:https://wp.pbcs.de/exchange-server-angreifbar/ - Artikel vom: Mo.\, 28. Januar 2019\, 13:46:06 - Aktuell existieren #Sicherheitslücken in allen #Exchange Versionen\, die es Angreifern ermöglicht\, sich administrative Berechtigungen zu erschleichen und z. B. Mails umzuleiten. Da die Lücke im Active Directory (EWS) verankert ist und über den Internet-Zugang auf den Exchange (OWA) erreichbar ist\, sollten Sie umgehend handeln und die Lücke schließen (lassen).Bis ein Update von Microsoft verfügbar ist\, lässt sich die Lücke durch Löschen eines Registrierungs-Schlüssels auf dem Exchange Server schließen:\n \nreg delete HKEY_LOCAL_MACHINE\\SYSTEM\\CurrentControlSet\\Control\\Lsa /v DisableLoopbackCheck /f\n \nWenn Sie die Lücke nicht selbst schließen möchten oder können\, beauftragen Sie uns bitte mit einem (kostenpflichtigen) Vorgang beauftragenund wir sichern Ihren Exchange Server ab.\n \nQuelle: CVE-2018-8581 | Microsoft Exchange Server Elevation of Privilege Vulnerability(Post ID:1249)
LOCATION:https://wp.pbcs.de
CATEGORIES:Gelbe Kategorie
TRANSP:TRANSPARENT
X-MICROSOFT-CDO-BUSYSTATUS:FREE
SEQUENCE:0
CLASS:PUBLIC
PRIORITY:1
DTSTART:20260425T070000Z
DTEND:20260425T080000Z
BEGIN:VALARM
TRIGGER:-PT30M
ACTION:DISPLAY
DESCRIPTION:Reminder for Exchange Server angreifbar
END:VALARM
END:VEVENT
END:VCALENDAR
