BEGIN:VCALENDAR
VERSION:2.0
METHOD:PUBLISH
PRODID:- PBCS IT-News //NONSGML Events //EN
CALSCALE:GREGORIAN
X-WR-CALNAME:ICAL-BLOG
BEGIN:VEVENT
UID:4c7d2c59-01b7-4317-bed2-a1b304e7a4cb
DTSTAMP:20260421T093204Z
CREATED:20260421T093204Z
SUMMARY:Elon Musk kauft Twitter
DESCRIPTION:https://wp.pbcs.de/elon-musk-kauft-twitter/ - Artikel vom: Do.\, 28. April 2022\, 11:33:14 - man könnte auch sagen: das war ein "MUSK HAVE" für ihn. :) Gestern kam allerdings ein Leitartikel in der Tageszeitung: "Was wird aus Musks Twitter?". Da unser Gehirn automatisch korrigiert\, liest es in den meisten Fällen "Was wird aus Murks Twitter?". Wollen wir das mal nicht hoffen.
LOCATION:https://wp.pbcs.de
CATEGORIES:Gelbe Kategorie
TRANSP:TRANSPARENT
X-MICROSOFT-CDO-BUSYSTATUS:FREE
SEQUENCE:0
CLASS:PUBLIC
PRIORITY:1
DTSTART:20260416T070000Z
DTEND:20260416T080000Z
BEGIN:VALARM
TRIGGER:-PT30M
ACTION:DISPLAY
DESCRIPTION:Reminder for Elon Musk kauft Twitter
END:VALARM
END:VEVENT
END:VCALENDAR
