BEGIN:VCALENDAR
VERSION:2.0
METHOD:PUBLISH
PRODID:- PBCS IT-News //NONSGML Events //EN
CALSCALE:GREGORIAN
X-WR-CALNAME:ICAL-BLOG
BEGIN:VEVENT
UID:76a05d9b-24c6-445c-a1ef-87b27c7e9514
DTSTAMP:20260421T125620Z
CREATED:20260421T125620Z
SUMMARY:Edge erstellt bei jedem Update Desktoplink
DESCRIPTION:https://wp.pbcs.de/edge-erstellt-bei-jedem-update-desktoplink/ - Artikel vom: Sa.\, 21. Januar 2023\, 11:52:35 - Derzeit erstellt Microsoft #Edge bei jedem Update (in allen Kanälen) erneut eine Desktop-Verknüpfung. Wer das nicht möchte\, muss sich mit einer Einstellung in den Edge Gruppenrichtlinien oder mit dem Setzen eines Registry Schlüssels behelfen:\n \nWindows Registry Editor Version 5.00 [HKEY_LOCAL_MACHINE\\SOFTWARE\\Policies\\Microsoft\\EdgeUpdate] "CreateDesktopShortcutDefault"=dword:00000000
LOCATION:https://wp.pbcs.de
CATEGORIES:Gelbe Kategorie
TRANSP:TRANSPARENT
X-MICROSOFT-CDO-BUSYSTATUS:FREE
SEQUENCE:0
CLASS:PUBLIC
PRIORITY:1
DTSTART:20260418T070000Z
DTEND:20260418T080000Z
BEGIN:VALARM
TRIGGER:-PT30M
ACTION:DISPLAY
DESCRIPTION:Reminder for Edge erstellt bei jedem Update Desktoplink
END:VALARM
END:VEVENT
END:VCALENDAR
