BEGIN:VCALENDAR
VERSION:2.0
METHOD:PUBLISH
PRODID:- PBCS IT-News //NONSGML Events //EN
CALSCALE:GREGORIAN
X-WR-CALNAME:ICAL-BLOG
BEGIN:VEVENT
UID:0e40c6b1-4e32-4327-bfc6-0947ce4c214e
DTSTAMP:20260421T125713Z
CREATED:20260421T125713Z
SUMMARY:Drucker – die Schüssel ist voll
DESCRIPTION:https://wp.pbcs.de/drucker-die-schuessel-ist-voll/ - Artikel vom: Di.\, 4. März 2025\, 18:06:05 - Neulich beim IP-Scan kommt unter der IP-Adresse eines Druckers alle Information auf chinesisch. Also einen Teil davon in Google Übersetzer kopiert und verschiedene Dialekte ausgewählt. Bei "simplified chinese" übersetzt dann Gugel: "Die Schüssel ist voll". #Lustig\n \nMir fällt da sofort ein Comedy Video von Dieter Hallervorden zusammen mit Helga Feddersen ein\, wo "Youre the one that i want"\, ein Song aus dem Musical "Grease" perfekt parodiert und in "denglisch" aufgeführt wird: "Die Wanne ist voll - Uh oh oooh".\n \n\n \nUnklar ist\, was die Textausgabe des Druckers meint. Mal beim nächsten Besuch im Chinarestaurant nachfragen - auch was eine Bowl Panyun ist. Bestimmt lecker. ChatGPT meint dazu:
LOCATION:https://wp.pbcs.de
CATEGORIES:Gelbe Kategorie
TRANSP:TRANSPARENT
X-MICROSOFT-CDO-BUSYSTATUS:FREE
SEQUENCE:0
CLASS:PUBLIC
PRIORITY:1
DTSTART:20260416T070000Z
DTEND:20260416T080000Z
BEGIN:VALARM
TRIGGER:-PT30M
ACTION:DISPLAY
DESCRIPTION:Reminder for Drucker – die Schüssel ist voll
END:VALARM
END:VEVENT
END:VCALENDAR
