BEGIN:VCALENDAR
VERSION:2.0
METHOD:PUBLISH
PRODID:- PBCS IT-News //NONSGML Events //EN
CALSCALE:GREGORIAN
X-WR-CALNAME:ICAL-BLOG
BEGIN:VEVENT
UID:cdcdf136-91ea-4c93-a7ea-af6d064b41e0
DTSTAMP:20260424T202031Z
CREATED:20260424T202031Z
SUMMARY:DirWebGal 3.2 mit Diashow
DESCRIPTION:https://wp.pbcs.de/dirwebgal-3-2-mit-diashow/ - Artikel vom: Sa.\, 1. April 2006\, 19:11:38 - Großansicht\, CSS-gesteuert\, DHTML und Javascript. Steuerung per Piktogramm und Hotkeys. Erzeugen von Thumbnails\, Bildnotizen\, Druckfunktion\, Kontaktabzug\, Mailfunktion. Neue Version im Downloadbereich. (edit: 01.04.2006 14:55:52) (Post ID:600)
LOCATION:https://wp.pbcs.de
CATEGORIES:Gelbe Kategorie
TRANSP:TRANSPARENT
X-MICROSOFT-CDO-BUSYSTATUS:FREE
SEQUENCE:0
CLASS:PUBLIC
PRIORITY:1
DTSTART:20260425T070000Z
DTEND:20260425T080000Z
BEGIN:VALARM
TRIGGER:-PT30M
ACTION:DISPLAY
DESCRIPTION:Reminder for DirWebGal 3.2 mit Diashow
END:VALARM
END:VEVENT
END:VCALENDAR
