BEGIN:VCALENDAR
VERSION:2.0
METHOD:PUBLISH
PRODID:- PBCS IT-News //NONSGML Events //EN
CALSCALE:GREGORIAN
X-WR-CALNAME:ICAL-BLOG
BEGIN:VEVENT
UID:78a58dc9-9215-4e95-aba3-644a6804cce5
DTSTAMP:20260425T153557Z
CREATED:20260425T153557Z
SUMMARY:podcast-derletzteapplaus
DESCRIPTION:https://wp.pbcs.de/der-letzte-applaus/podcast-derletzteapplaus/ - Artikel vom: Do.\, 28. August 2025\, 21:27:24 - Krimikurzgeschichte Mord im Theater
LOCATION:https://wp.pbcs.de
CATEGORIES:Gelbe Kategorie
TRANSP:TRANSPARENT
X-MICROSOFT-CDO-BUSYSTATUS:FREE
SEQUENCE:0
CLASS:PUBLIC
PRIORITY:1
DTSTART:20260426T070000Z
DTEND:20260426T080000Z
BEGIN:VALARM
TRIGGER:-PT30M
ACTION:DISPLAY
DESCRIPTION:Reminder for podcast-derletzteapplaus
END:VALARM
END:VEVENT
END:VCALENDAR
