BEGIN:VCALENDAR
VERSION:2.0
METHOD:PUBLISH
PRODID:- PBCS IT-News //NONSGML Events //EN
CALSCALE:GREGORIAN
X-WR-CALNAME:ICAL-BLOG
BEGIN:VEVENT
UID:f73be8dc-3340-4ad7-87f7-ece9f388d97a
DTSTAMP:20260419T143025Z
CREATED:20260419T143025Z
SUMMARY:Deploy und VM-ISOs neu erstellen erforderlich
DESCRIPTION:https://wp.pbcs.de/deploy-isos-neu-erstellen/ - Artikel vom: Mo.\, 22. Mai 2023\, 17:08:58 - Mit dem #Patchday Mai 2023 aktualisiert Microsoft mit #Sicherheitsupdates auch den Secure Boot Loader von Windows 10\, 11 und Windows Server 2016-2022. Wer also eine ISO-Datei (mit Rufus auf einen USB-Speicher erstellt) verwendet\, muss diese ISO-Datei neu erstellen und dabei das Mai-2023 Update integrieren. Die vorhandenen ISOs mit einem älteren Stand werden nicht mehr starten können\, da das UEFI die Zertifikate nicht akzeptiert. Das gilt auch dann\, wenn man eine solche ISO als externe Reparatur-Hilfe für verunglückte PCs oder Notebooks - oder auch Server verwendet. Zuletzt sollten auch Hyper-V und vmware Vorlagen-Images auf den aktuellen Patch-Stand gebracht oder neu erstellt werden.\n \n\nDeploy\, Boot-ISOs\, Installations- und Reparatur-Datenträger und VM Vorlagen für Windows und Windows Server neu erstellen - mit Patchstand von Mai 2023\nMicrosoft: KB5025885: Secure Boot-Absicherung gegen Schwachstelle CVE-2023-24932 (Black Lotus)
LOCATION:https://wp.pbcs.de
CATEGORIES:Gelbe Kategorie
TRANSP:TRANSPARENT
X-MICROSOFT-CDO-BUSYSTATUS:FREE
SEQUENCE:0
CLASS:PUBLIC
PRIORITY:1
DTSTART:20260309T080000Z
DTEND:20260309T090000Z
BEGIN:VALARM
TRIGGER:-PT30M
ACTION:DISPLAY
DESCRIPTION:Reminder for Deploy und VM-ISOs neu erstellen erforderlich
END:VALARM
END:VEVENT
END:VCALENDAR
