BEGIN:VCALENDAR
VERSION:2.0
METHOD:PUBLISH
PRODID:- PBCS IT-News //NONSGML Events //EN
CALSCALE:GREGORIAN
X-WR-CALNAME:ICAL-BLOG
BEGIN:VEVENT
UID:6539dd35-e445-422b-9a8c-859b77cb6ef4
DTSTAMP:20260423T221155Z
CREATED:20260423T221155Z
SUMMARY:Windows 11 Unattended\, Microsoft 365\, Server 2025 und Cloud Azure
DESCRIPTION:https://wp.pbcs.de/dedo_download/windows-11-unattended-microsoft-365-server-2025-und-cloud-azure/ - Artikel vom: Do.\, 19. Juni 2025\, 13:52:21 - Dieser Inhalt ist passwortgeschützt. Bitte geben Sie unten das Passwort ein\, um ihn anzeigen zu können. Passwort:   /dedo_download/windows-11-unattended-microsoft-365-server-2025-und-cloud-azure/icalfeed/?ende=20260424T080000Z&nonce=1776969593&start=20260424T070000Z
LOCATION:https://wp.pbcs.de
CATEGORIES:Gelbe Kategorie
TRANSP:TRANSPARENT
X-MICROSOFT-CDO-BUSYSTATUS:FREE
SEQUENCE:0
CLASS:PUBLIC
PRIORITY:1
DTSTART:20260424T070000Z
DTEND:20260424T080000Z
BEGIN:VALARM
TRIGGER:-PT30M
ACTION:DISPLAY
DESCRIPTION:Reminder for Windows 11 Unattended\, Microsoft 365\, Server 2025 und Cloud Azure
END:VALARM
END:VEVENT
END:VCALENDAR
