BEGIN:VCALENDAR
VERSION:2.0
METHOD:PUBLISH
PRODID:- PBCS IT-News //NONSGML Events //EN
CALSCALE:GREGORIAN
X-WR-CALNAME:ICAL-BLOG
BEGIN:VEVENT
UID:b6594347-fd6e-4f51-9aad-cc23efe7d2cc
DTSTAMP:20260424T032332Z
CREATED:20260424T032332Z
SUMMARY:OpenAudit Classic Inventar Setup
DESCRIPTION:https://wp.pbcs.de/dedo_download/open-audit-classic-gpl-inventar/ - Artikel vom: Di.\, 17. März 2026\, 13:10:40 - Quelloffene Software\, die auf einem Windows Server installiert 1x pro Tag alle Hard- und Software inventarisiert. Enthält die aktuellen Versionen von Apache\, PHP\, Mysql (MariaDB)\, PHPMyadmin und NMap. Kann für Wordpress Intranets genutzt werden.
LOCATION:https://wp.pbcs.de
CATEGORIES:Gelbe Kategorie
TRANSP:TRANSPARENT
X-MICROSOFT-CDO-BUSYSTATUS:FREE
SEQUENCE:0
CLASS:PUBLIC
PRIORITY:1
DTSTART:20260424T070000Z
DTEND:20260424T080000Z
BEGIN:VALARM
TRIGGER:-PT30M
ACTION:DISPLAY
DESCRIPTION:Reminder for OpenAudit Classic Inventar Setup
END:VALARM
END:VEVENT
END:VCALENDAR
