BEGIN:VCALENDAR
VERSION:2.0
METHOD:PUBLISH
PRODID:- PBCS IT-News //NONSGML Events //EN
CALSCALE:GREGORIAN
X-WR-CALNAME:ICAL-BLOG
BEGIN:VEVENT
UID:c452f370-13ae-42d7-9a02-eb42fbdb644b
DTSTAMP:20260421T142122Z
CREATED:20260421T142122Z
SUMMARY:Datenbank: Reisen Hotels
DESCRIPTION:https://wp.pbcs.de/datenbank-reisen-hotels/ - Artikel vom: Do.\, 25. Dezember 2025\, 14:11:46 - Dieser Inhalt ist passwortgeschützt. Bitte geben Sie unten das Passwort ein\, um ihn anzeigen zu können. Passwort:   /datenbank-reisen-hotels/icalfeed/?ende=20260422T080000Z&nonce=1776774473&start=20260422T070000Z
LOCATION:https://wp.pbcs.de
CATEGORIES:Gelbe Kategorie
TRANSP:TRANSPARENT
X-MICROSOFT-CDO-BUSYSTATUS:FREE
SEQUENCE:0
CLASS:PUBLIC
PRIORITY:1
DTSTART:20260422T070000Z
DTEND:20260422T080000Z
BEGIN:VALARM
TRIGGER:-PT30M
ACTION:DISPLAY
DESCRIPTION:Reminder for Datenbank: Reisen Hotels
END:VALARM
END:VEVENT
END:VCALENDAR
