BEGIN:VCALENDAR
VERSION:2.0
METHOD:PUBLISH
PRODID:- PBCS IT-News //NONSGML Events //EN
CALSCALE:GREGORIAN
X-WR-CALNAME:ICAL-BLOG
BEGIN:VEVENT
UID:1b9bb412-5dd8-47d2-9ff9-e6a4302c2aa1
DTSTAMP:20260424T221502Z
CREATED:20260424T221502Z
SUMMARY:ChatGPT-5: OpenAI hebt KI auf ein neues Level
DESCRIPTION:https://wp.pbcs.de/chatgpt-5-openai-hebt-ki-auf-ein-neues-level/ - Artikel vom: Fr.\, 8. August 2025\, 15:15:26 - OpenAI hat GPT-5 vorgestellt – und verspricht nichts weniger als einen Meilenstein in der #KI Entwicklung. Das neue Sprachmodell bringt mehr Wissen\, höhere Präzision und neue Funktionen\, die ChatGPT noch vielseitiger machen.\n \nVerfügbarkeit für alle – mit Einschränkungen\n \nGPT-5 wird ab sofort weltweit ausgerollt. Auch Nutzer der kostenlosen ChatGPT-Version erhalten Zugriff – allerdings mit limitierten Anfragen. Plus-Abonnenten profitieren von höheren Limits\, während Pro-Nutzer zusätzlich auf GPT-5 Pro und GPT-5 Thinking zugreifen können.Neben dem Hauptmodell hat OpenAI auch Mini- und Nano-Versionen für leichtere\, schnellere und günstigere Aufgaben über die API veröffentlicht.\n \nNeue Funktionen im Überblick\n \nGPT-5 liefert Antworten auf Expertenniveau – in vielen Bereichen vergleichbar mit einem promovierten Fachspezialisten.Die wichtigsten Neuerungen:\n \n\nDeutlich weniger Halluzinationen: Besonders in Medizin und Finanzwesen steigt die Zuverlässigkeit.\n \nMultimodalität: Text\, Bild und Sprache fließen nahtlos ineinander.\n \nApp-Integrationen: Direkter Zugriff auf Gmail\, Google Calendar & Co.\n \nPersönlichere Chats: Wählbare Gesprächsstile wie „Cynic“ oder „Nerd“.\n \nBesserer Voice Mode: Flüssigere\, natürlichere Sprache.\n\n \nEin intelligentes Routing-System wählt automatisch das passende Modell – von der schnellen Mini-Version bis zur tief analysierenden Thinking-Variante.\n \nMessbare Verbesserungen in Benchmarks\n \n\nProgrammieren: SWE-Bench Verified (~74\,9 %)\, Aider Polyglot (~88 %).\n \nMathematik & Multimodalität: AIME 2025 (~94\,6 %)\, MMMU (~84\,2 %).\n \nGesundheit: Verbesserte Ergebnisse im HealthBench Hard (~25\,5 % mit „Thinking“).\n \nFaktenlage: Bis zu 65 % weniger Fehler gegenüber GPT-4.\n\n \nNicht ohne Schwächen\n \nTrotz aller Fortschritte patzt GPT-5 in banalen Disziplinen wie Rechtschreibung oder Geografie. Kuriose Ausrutscher wie der Fantasie-Ort „New Jefst“ oder falsche Buchstabenzahlen zeigen: Perfekt ist das Modell nicht.\n \nFazit\n \nGPT-5 ist schneller\, präziser und vielseitiger als seine Vorgänger – und bringt ChatGPT einen großen Schritt näher an einen echten Allround-Assistenten.Für Entwickler\, Unternehmen und Kreative eröffnet sich damit ein noch breiteres Einsatzspektrum\, auch wenn GPT-5 noch kein echtes „künstliches allgemeines Bewusstsein“ darstellt.
LOCATION:https://wp.pbcs.de
CATEGORIES:Gelbe Kategorie
TRANSP:TRANSPARENT
X-MICROSOFT-CDO-BUSYSTATUS:FREE
SEQUENCE:0
CLASS:PUBLIC
PRIORITY:1
DTSTART:20260425T070000Z
DTEND:20260425T080000Z
BEGIN:VALARM
TRIGGER:-PT30M
ACTION:DISPLAY
DESCRIPTION:Reminder for ChatGPT-5: OpenAI hebt KI auf ein neues Level
END:VALARM
END:VEVENT
END:VCALENDAR
