BEGIN:VCALENDAR
VERSION:2.0
METHOD:PUBLISH
PRODID:- PBCS IT-News //NONSGML Events //EN
CALSCALE:GREGORIAN
X-WR-CALNAME:ICAL-BLOG
BEGIN:VEVENT
UID:d8725ce2-7655-4d3e-b288-91bb4eaa2284
DTSTAMP:20260423T234633Z
CREATED:20260423T234633Z
SUMMARY:Reisen – Hamburg 2005
DESCRIPTION:https://wp.pbcs.de/reisen-hamburg-2005/ - Artikel vom: Mo.\, 7. Oktober 2019\, 23:46:34 - Hier ein kurzer Bericht zur diesjährigen Erlebnistour. Diesmal ging es nach Hamburg: Wetter: sonnig\, wolkenlos\, ca. 25C Programm der Veranstaltung: Hinfahrt: ICE Abfahrt: 7:56 Uhr HBF Münster\, Gleis 12 ICE 808\, Ankunft Hamburg HBF: 10:11 Uhr S-Bahn: Abfahrt: 10.19 Uhr Ankunft: 10:25 Uhr Hamburg Landungsbrücken. Um das erste oder zweite Frühstück während der Hinfahrt möchte sich jeder bitte selbst kmmern. * Spaziergang in der Speicherstadt mit einem Besuch im "Dungeon" - ein schaurig söchnes Erlebnis aus 2.000 Jahren Hamburger Geschichte. Hamburg Dungeon * Kleiner Imbiss auf dem Feuerschiff * Hafenrundfahrt (die groe\, Dauer ca. 1 Stunde) * Stimmungsvoller Ausklang im Hamborger Veermaster (Lokal) auf der Reeperbahn. Textsicher sollte jeder sein: Liedtext Rückfahrt Abfahrt: 22:38 Uhr HBF Hamburg\, Ankunft: 01:21 Uhr HBF Münster (Post ID:1070)
LOCATION:https://wp.pbcs.de
CATEGORIES:Gelbe Kategorie
TRANSP:TRANSPARENT
X-MICROSOFT-CDO-BUSYSTATUS:FREE
SEQUENCE:0
CLASS:PUBLIC
PRIORITY:1
DTSTART:20260424T070000Z
DTEND:20260424T080000Z
BEGIN:VALARM
TRIGGER:-PT30M
ACTION:DISPLAY
DESCRIPTION:Reminder for Reisen – Hamburg 2005
END:VALARM
END:VEVENT
END:VCALENDAR
