BEGIN:VCALENDAR
VERSION:2.0
METHOD:PUBLISH
PRODID:- PBCS IT-News //NONSGML Events //EN
CALSCALE:GREGORIAN
X-WR-CALNAME:ICAL-BLOG
BEGIN:VEVENT
UID:eec59b8b-d109-42bc-b13e-264e3ffe1bec
DTSTAMP:20260424T234040Z
CREATED:20260424T234040Z
SUMMARY:Vodafone West ändert Kabel-Senderbelegung – schwarzer Bildschirm
DESCRIPTION:https://wp.pbcs.de/vodafone-west-aendert-kabel-senderbelegung-schwarzer-bildschirm/ - Artikel vom: Fr.\, 16. Januar 2026\, 09:56:20 - In der Nacht zu gestern hat Vodafone West im Kabelfernsehen unangekündigt die Kanalbelegung und Sendernummerierung geändert. Die Folgen waren für viele Kundinnen und Kunden unmittelbar spürbar:schwarze Bildschirme\, nicht mehr erreichbare Programme und komplett unbrauchbare Favoritenlisten.\n \nBesonders ärgerlich ist dabei weniger die technische Änderung an sich – sondern die fehlende Kommunikation.\n \nKeine Ankündigung\, keine Vorbereitung\n \nBei Wartungsarbeiten am Kabelnetz ist es eigentlich üblich\, diese vorab mit Datum und Uhrzeit anzukündigen. Genau das ist hier nicht passiert.Hätte Vodafone West die Umstellung kommuniziert\, hätten sich viele Nutzer vorbereiten können:\n \n\nSenderlisten sichern\n \nFavoriten dokumentieren\n \nZeit für eine notwendige Neueinrichtung einplanen\n\n \nStattdessen standen zahlreiche Haushalte morgens vor dem Fernseher und mussten feststellen\, dass nichts mehr so funktionierte wie zuvor.\n \nTechnische Ursache\, praktische Auswirkungen\n \nDurch die geänderte Kanalbelegung mussten viele TV-Geräte die Sender neu einlesen. Dabei passiert in der Regel Folgendes:\n \n\nAlte Senderlisten werden ungültig\n \nFavoritenlisten verlieren ihre Zuordnung\n \nSender liegen plötzlich auf völlig anderen Programmplätzen\n\n \nGerade für ältere Menschen oder weniger technikaffine Nutzer ist das ein echtes Problem.\n \nAbhilfe: Neu einlesen – aber nicht ohne Aufwand\n \nDie einzige praktikable Lösung besteht aktuell aus mehreren Schritten:\n \n\nSenderliste am TV-Gerät vollständig löschen\n \nKompletten Sendersuchlauf durchführen\n \nFavoritenlisten neu anlegen\n \nSender manuell sortieren\n\n \nJe nach Fernseher und Anzahl der genutzten Programme kann das schnell 30–60 Minuten oder mehr in Anspruch nehmen.\n \nErleichterung durch Open Source: „chansort“\n \nFür Nutzer bestimmter TV-Marken gibt es immerhin eine Erleichterung:Das Open-Source-Projekt „chansort“.\n \nMit chansort lassen sich Senderlisten am PC bearbeiten und anschließend wieder auf den Fernseher übertragen und Listen nach Excel übernehmen. Unterstützt werden unter anderem:\n \n\nSamsung\n \nPanasonic\n \nweitere Hersteller und Modelle\n\n \nDamit können Favoriten deutlich schneller sortiert und Programmplätze effizient angepasst werden – vorausgesetzt\, das jeweilige TV-Gerät erlaubt den Export/Import der Senderliste.\n \n👉 Projektseite: https://github.com/chansort/chansort\n \nFür viele bleibt nur Handarbeit\n \nLeider gilt: Nicht alle Fernseher werden unterstützt.Wer ein nicht kompatibles Gerät nutzt\, muss die komplette Sortierung direkt am Fernseher per Fernbedienung erledigen – eine mühsame und unnötige Arbeit\, die durch eine einfache Vorabinformation hätte vermieden werden können.\n \nFazit: Technische Änderungen brauchen Kommunikation\n \nNetzumbauten und Umstellungen sind im Kabelnetz nichts Ungewöhnliches.Was jedoch nicht akzeptabel ist\, sind unangekündigte Änderungen mit massiven Auswirkungen für Endkunden.\n \nEin einfacher Hinweis – wie bei sonstigen Wartungsarbeiten – hätte gereicht.So bleibt bei vielen Kunden vor allem eines zurück: Unverständnis und Frust.\n \nVodafone West täte gut daran\, zukünftige Änderungen transparent und rechtzeitig zu kommunizieren. Denn Technikprobleme sind ärgerlich – Überraschungen mitten in der Nacht sind es noch mehr.
LOCATION:https://wp.pbcs.de
CATEGORIES:Gelbe Kategorie
TRANSP:TRANSPARENT
X-MICROSOFT-CDO-BUSYSTATUS:FREE
SEQUENCE:0
CLASS:PUBLIC
PRIORITY:1
DTSTART:20260425T070000Z
DTEND:20260425T080000Z
BEGIN:VALARM
TRIGGER:-PT30M
ACTION:DISPLAY
DESCRIPTION:Reminder for Vodafone West ändert Kabel-Senderbelegung – schwarzer Bildschirm
END:VALARM
END:VEVENT
END:VCALENDAR
