BEGIN:VCALENDAR
VERSION:2.0
METHOD:PUBLISH
PRODID:- PBCS IT-News //NONSGML Events //EN
CALSCALE:GREGORIAN
X-WR-CALNAME:ICAL-BLOG
BEGIN:VEVENT
UID:2ca4248c-e566-48a5-a126-1549397e7299
DTSTAMP:20260421T125832Z
CREATED:20260421T125832Z
SUMMARY:Bankleitzahlen und IBANs suchen und prüfen
DESCRIPTION:https://wp.pbcs.de/bankleitzahlen-und-ibans-suchen-und-pruefen/ - Artikel vom: Fr.\, 20. Juni 2014\, 16:02:35 - Bankleitzahlendatenbank mit IBAN-Codes\, Stand Januar 2014 aktualisiert\, erweiterte Anzeigekriterien\, Städteinfos Deutschland\, Länderinfos Welt (edit: 20.06.2014 15:01:47) (Post ID:620)
LOCATION:https://wp.pbcs.de
CATEGORIES:Gelbe Kategorie
TRANSP:TRANSPARENT
X-MICROSOFT-CDO-BUSYSTATUS:FREE
SEQUENCE:0
CLASS:PUBLIC
PRIORITY:1
DTSTART:20260309T080000Z
DTEND:20260309T090000Z
BEGIN:VALARM
TRIGGER:-PT30M
ACTION:DISPLAY
DESCRIPTION:Reminder for Bankleitzahlen und IBANs suchen und prüfen
END:VALARM
END:VEVENT
END:VCALENDAR
