BEGIN:VCALENDAR
VERSION:2.0
METHOD:PUBLISH
PRODID:- PBCS IT-News //NONSGML Events //EN
CALSCALE:GREGORIAN
X-WR-CALNAME:ICAL-BLOG
BEGIN:VEVENT
UID:a1f57acb-09fa-4805-a33a-efd718f30436
DTSTAMP:20260424T070520Z
CREATED:20260424T070520Z
SUMMARY:Anleitung: Windows 10 sofort frisch installieren
DESCRIPTION:https://wp.pbcs.de/anleitung-windows-10-sofort-frisch-installieren/ - Artikel vom: Do.\, 3. September 2015\, 16:55:47 - ohne vorher auf dem Rechner das Upgrade ausführen zu müssen. So funktioniert es: Zunächst aus der ISO-Installationsquelle aus dem Ordner "sources" die ausführbare Datei "gatherosstate.exe" auf die Festplatte des zu aktualisierenden Rechners kopieren (z.B. nach c:\\temp oder auf den Desktop. Exe dort ausführen. Das Programm erzeugt eine XML-Datei namens "GenuineTicket.xml". Die XML-Datei sichert man nun extern und führt anschließend die saubere Installation von Windows 10 durch. Nach der Installation kopiert man die "GenuineTicket.xml" in den Verzeichnispfad "C:/programdata/microsoft/windows/clipsvc/genuineticket/" und führt einen Neustart aus. #Win10 ist nun aktiviert. (Post ID:959)
LOCATION:https://wp.pbcs.de
CATEGORIES:Gelbe Kategorie
TRANSP:TRANSPARENT
X-MICROSOFT-CDO-BUSYSTATUS:FREE
SEQUENCE:0
CLASS:PUBLIC
PRIORITY:1
DTSTART:20260424T070000Z
DTEND:20260424T080000Z
BEGIN:VALARM
TRIGGER:-PT30M
ACTION:DISPLAY
DESCRIPTION:Reminder for Anleitung: Windows 10 sofort frisch installieren
END:VALARM
END:VEVENT
END:VCALENDAR
