BEGIN:VCALENDAR
VERSION:2.0
METHOD:PUBLISH
PRODID:- PBCS IT-News //NONSGML Events //EN
CALSCALE:GREGORIAN
X-WR-CALNAME:ICAL-BLOG
BEGIN:VEVENT
UID:a07174f4-a933-4225-8e7c-04d5ec59aaa4
DTSTAMP:20260424T221308Z
CREATED:20260424T221308Z
SUMMARY:Adobe-Reader wurde auf Version 9.1.3 aktualisiert
DESCRIPTION:https://wp.pbcs.de/adobe-reader-wurde-auf-version-9-1-3-aktualisiert/ - Artikel vom: Sa.\, 1. August 2009\, 12:32:56 - und damit kritische Sicherheitslücken geschlossen. Unbedingt aktualisieren! Danach bitte aus Sicherheitsgründen weiterhin Javascript im Reader abschalten. Citrix-Server sind immer noch außen vor\, d.h. keine 9er- Version vom Adobe Reader auf Citrix installieren. Hier bitte 8.1.6 runterladen\, installieren und Javascript ebenfalls abschalten. Achtung: die Javascript REGISTRY-Einstellung ust HKCU\, also für jeden Benutzer einzeln auszuführen. (Post ID:676)
LOCATION:https://wp.pbcs.de
CATEGORIES:Gelbe Kategorie
TRANSP:TRANSPARENT
X-MICROSOFT-CDO-BUSYSTATUS:FREE
SEQUENCE:0
CLASS:PUBLIC
PRIORITY:1
DTSTART:20260425T070000Z
DTEND:20260425T080000Z
BEGIN:VALARM
TRIGGER:-PT30M
ACTION:DISPLAY
DESCRIPTION:Reminder for Adobe-Reader wurde auf Version 9.1.3 aktualisiert
END:VALARM
END:VEVENT
END:VCALENDAR
