BEGIN:VCALENDAR
VERSION:2.0
METHOD:PUBLISH
PRODID:- PBCS IT-News //NONSGML Events //EN
CALSCALE:GREGORIAN
X-WR-CALNAME:ICAL-BLOG
BEGIN:VEVENT
UID:74f9bb83-fdaa-4744-9d33-5d5f37db8b1a
DTSTAMP:20260419T130445Z
CREATED:20260419T130445Z
SUMMARY:Adobe Reader September 2014 Update
DESCRIPTION:https://wp.pbcs.de/adobe-reader-september-2014-update/ - Artikel vom: Mi.\, 17. September 2014\, 21:01:07 - Version 11.0.09. Das geplante Update des Adobe Readers berücksichtigt auch einige Sicherheitslücken\, die im Flashplayer bereits wenige Tage zuvor gesopft wurden. Installationen des Adobe Readers sollten daher zeitnah auf die aktuelle Version gebracht werden. Heimlich hat auch Oracle sein Java aktualisiert. Die derzeit sicherste Version ist damit 8.0.200 (Update 20). Nur wo Java für Internetseiten benötigt wird\, oder Serverdienste die Funktionalität benötigen (z.B. Fujitsu Serverview)\, sollte java installiert und auf dem aktuellen Stand sein. (Post ID:873)
LOCATION:https://wp.pbcs.de
CATEGORIES:Gelbe Kategorie
TRANSP:TRANSPARENT
X-MICROSOFT-CDO-BUSYSTATUS:FREE
SEQUENCE:0
CLASS:PUBLIC
PRIORITY:1
DTSTART:20260309T080000Z
DTEND:20260309T090000Z
BEGIN:VALARM
TRIGGER:-PT30M
ACTION:DISPLAY
DESCRIPTION:Reminder for Adobe Reader September 2014 Update
END:VALARM
END:VEVENT
END:VCALENDAR
