BEGIN:VCALENDAR
VERSION:2.0
METHOD:PUBLISH
PRODID:- PBCS IT-News //NONSGML Events //EN
CALSCALE:GREGORIAN
X-WR-CALNAME:ICAL-BLOG
BEGIN:VEVENT
UID:ef3b8f18-3038-4bea-9082-0ed6e1affade
DTSTAMP:20260425T164118Z
CREATED:20260425T164118Z
SUMMARY:Adobe hat Patches veröffentlicht
DESCRIPTION:https://wp.pbcs.de/adobe-hat-patches-veroeffentlicht/ - Artikel vom: Do.\, 12. April 2012\, 19:02:46 - die Sicherheitslücken im Adobe Reader schließen. Die aktuelle Version ist nun: 10.1.3 Bitte aktualisieren Sie Ihre Reader Installationen. Am Windows Patchday am Dienstag hat Microsoft insbesondere Aktualisierungen in wichtigen Systemkomponenten und dem Internet-Explorer\, sowie in aktuellen Officeprodukten veröffentlicht. Auch hier ist wegen aktiver Ausnutzung der Lücken ein zeitnahes Update der Systeme empfohlen. (Post ID:721)
LOCATION:https://wp.pbcs.de
CATEGORIES:Gelbe Kategorie
TRANSP:TRANSPARENT
X-MICROSOFT-CDO-BUSYSTATUS:FREE
SEQUENCE:0
CLASS:PUBLIC
PRIORITY:1
DTSTART:20260426T070000Z
DTEND:20260426T080000Z
BEGIN:VALARM
TRIGGER:-PT30M
ACTION:DISPLAY
DESCRIPTION:Reminder for Adobe hat Patches veröffentlicht
END:VALARM
END:VEVENT
END:VCALENDAR
