BEGIN:VCALENDAR
VERSION:2.0
METHOD:PUBLISH
PRODID:- PBCS IT-News //NONSGML Events //EN
CALSCALE:GREGORIAN
X-WR-CALNAME:ICAL-BLOG
BEGIN:VEVENT
UID:6ba057d5-eb62-43f5-a50b-4c2fac9629bc
DTSTAMP:20260424T233941Z
CREATED:20260424T233941Z
SUMMARY:Adobe Flash Player Hotfix-Release
DESCRIPTION:https://wp.pbcs.de/adobe-flash-player-hotfix-release/ - Artikel vom: Fr.\, 13. April 2012\, 15:53:49 - Version 10.2.202.233 wurde heute veröffentlicht. Da der build aber ausserhalb des normalen Release-Zyklus (erst vor Kurzem wurde Version 11.2 veröffentlicht) erschien\, sind es aller Voraussicht nach Sicherheitslücken\, die geschlossen wurden. (Post ID:723)
LOCATION:https://wp.pbcs.de
CATEGORIES:Gelbe Kategorie
TRANSP:TRANSPARENT
X-MICROSOFT-CDO-BUSYSTATUS:FREE
SEQUENCE:0
CLASS:PUBLIC
PRIORITY:1
DTSTART:20260425T070000Z
DTEND:20260425T080000Z
BEGIN:VALARM
TRIGGER:-PT30M
ACTION:DISPLAY
DESCRIPTION:Reminder for Adobe Flash Player Hotfix-Release
END:VALARM
END:VEVENT
END:VCALENDAR
