BEGIN:VCALENDAR
VERSION:2.0
METHOD:PUBLISH
PRODID:- PBCS IT-News //NONSGML Events //EN
CALSCALE:GREGORIAN
X-WR-CALNAME:ICAL-BLOG
BEGIN:VEVENT
UID:48440c75-6442-4528-a161-e80399245629
DTSTAMP:20260421T125305Z
CREATED:20260421T125305Z
SUMMARY:E-Mail-Grußformeln und Anreden modernisieren
DESCRIPTION:https://wp.pbcs.de/e-mail-grussformeln-und-anreden-modernisieren/ - Artikel vom: Mo.\, 16. Juni 2025\, 12:45:34 - In der digitalen Geschäftswelt ist die E-Mail nach wie vor eines der wichtigsten Kommunikationsmittel. Doch obwohl sich Arbeitsweisen\, Unternehmenskulturen und Kommunikationskanäle rasant verändert haben\, hängen viele noch an veralteten Grußformeln und Anreden. Höchste Zeit\, diese zu modernisieren – für mehr Nähe\, Klarheit und Effizienz.\n \nWarum moderne Grußformeln und Anreden wichtig sind\n \nVeraltete E-Mail-Formeln wirken heute oft steif\, distanziert oder unpersönlich – gerade in dynamischen Teams\, Start-ups oder hybriden Arbeitsumgebungen. Wer zeitgemäß schreibt\, signalisiert:\n \n\nWertschätzung und Augenhöhe\, ohne Förmlichkeit zu verlieren.\n \nAnpassungsfähigkeit an moderne Unternehmenskulturen.\n \nKlarheit und Authentizität in der Kommunikation.\n\n \nKlassische Anreden im Wandel\n \nDie Anrede ist der erste Eindruck – und damit besonders wichtig. Hier ein Überblick über moderne Alternativen:\n \nKlassischModern und zeitgemäßSehr geehrte Damen und HerrenGuten Tag\,Sehr geehrter Herr MüllerHallo Herr Müller / Guten Tag Herr MüllerLiebe Frau Schmidt (geschäftlich)Hallo Frau SchmidtHi zusammen (Team)Hallo zusammen / Guten Morgen Team\n \nTipp: Je besser man die Zielgruppe kennt\, desto persönlicher darf es sein. Bei neuen Kontakten oder konservativen Branchen ist „Guten Tag“ ein guter Mittelweg.\n \nZeitgemäße Grußformeln – jenseits von „Mit freundlichen Grüßen“\n \n„Mit freundlichen Grüßen“ ist korrekt\, aber oft zu distanziert. Hier einige Alternativen\, die je nach Tonfall moderner und trotzdem professionell wirken:\n \nStandardModern und sympathischMit freundlichen GrüßenViele GrüßeHochachtungsvollFreundliche GrüßeMfG (bitte vermeiden!)Herzliche Grüße / Beste Grüße— (ganz weglassen)Dankende Grüße / Schöne Woche\n \nDos & Don’ts:\n \n\nDO: Grußformeln variieren – je nach Kontext und Empfänger.\n \nDON’T: Emojis in formellen E-Mails verwenden (außer intern mit klarem Teamverständnis).\n\n \nInterne Kommunikation: Locker\, aber klar\n \nGerade im internen Austausch per E-Mail oder Kollaborationstools wie Outlook\, Teams oder Slack darf die Kommunikation informeller sein – solange sie respektvoll bleibt.\n \nBeispiele:\n \n\nAnrede: „Hi Lisa“ oder einfach „Lisa\,“ reicht oft aus.\n \nGruß: „Viele Grüße“ oder „Danke dir!“ am Ende.\n \nSprachstil: Klar\, direkt und aktiv formulieren („Ich schicke dir den Bericht bis Mittwoch“ statt „Der Bericht wird Ihnen voraussichtlich…“).\n\n \nFazit: Weniger Floskeln\, mehr Persönlichkeit\n \nModerne E-Mail-Kommunikation bedeutet nicht\, förmlich zu sein – sondern situativ angemessen\, respektvoll und authentisch zu schreiben. Wer veraltete Grußformeln ersetzt\, zeigt Gespür für zeitgemäße Kommunikation und stärkt so Beziehung und Wirkung – intern wie extern.\n \nTipp zum Schluss: Überlegen Sie beim Schreiben jeder E-Mail: Wie würde ich diese Person in einem kurzen Gespräch begrüßen und verabschieden? Oft ergibt sich daraus die passende Tonalität ganz von selbst.
LOCATION:https://wp.pbcs.de
CATEGORIES:Gelbe Kategorie
TRANSP:TRANSPARENT
X-MICROSOFT-CDO-BUSYSTATUS:FREE
SEQUENCE:0
CLASS:PUBLIC
PRIORITY:1
DTSTART:20260418T070000Z
DTEND:20260418T080000Z
BEGIN:VALARM
TRIGGER:-PT30M
ACTION:DISPLAY
DESCRIPTION:Reminder for E-Mail-Grußformeln und Anreden modernisieren
END:VALARM
END:VEVENT
END:VCALENDAR
