BEGIN:VCALENDAR
VERSION:2.0
METHOD:PUBLISH
PRODID:- PBCS IT-News //NONSGML Events //EN
CALSCALE:GREGORIAN
X-WR-CALNAME:ICAL-BLOG
BEGIN:VEVENT
UID:2450d49b-4a02-4390-a93f-01ffa61b5b67
DTSTAMP:20260419T130834Z
CREATED:20260419T130834Z
SUMMARY:Nachruf: Der Papst ist verstorben
DESCRIPTION:https://wp.pbcs.de/nachruf-der-papst-ist-verstorben/ - Artikel vom: Mo.\, 21. April 2025\, 12:09:35 - Traurige Nachricht\, insbesondere für alle Menschen katholischen Glaubens. Papst Franziskus\, geboren als Jorge Mario Bergoglio\, ist im Alter von 88 Jahren am Ostermontag 2025 verstorben. Als Oberhaupt der katholischen Kirche seit 2013 hinterlässt er ein tiefes Vermächtnis von Mitgefühl\, Demut und Engagement für soziale Gerechtigkeit. Der erste Papst aus Lateinamerika und ein Jesuit\, Franziskus\, war bekannt für seine Nähe zu den Armen und seine Bemühungen\, Brücken zwischen verschiedenen Glaubensrichtungen zu bauen.\n \nSeine Amtszeit war geprägt von einem unermüdlichen Einsatz für Frieden\, Umweltbewusstsein und die Rechte der Schwächsten in der Gesellschaft. Er rief die Welt dazu auf\, sich der Klimakrise zu stellen\, und setzte sich für Flüchtlinge und Migranten ein. Seine Botschaften der Hoffnung und Versöhnung inspirierten Millionen weltweit.\n \nPapst Franziskus wird als ein Mann in Erinnerung bleiben\, der die Kirche in einer Zeit großer Herausforderungen führte und stets die Menschlichkeit in den Mittelpunkt stellte. Möge sein Erbe weiterleben und die Welt weiterhin zu Mitgefühl und Einheit inspirieren.
LOCATION:https://wp.pbcs.de
CATEGORIES:Gelbe Kategorie
TRANSP:TRANSPARENT
X-MICROSOFT-CDO-BUSYSTATUS:FREE
SEQUENCE:0
CLASS:PUBLIC
PRIORITY:1
DTSTART:20260416T070000Z
DTEND:20260416T080000Z
BEGIN:VALARM
TRIGGER:-PT30M
ACTION:DISPLAY
DESCRIPTION:Reminder for Nachruf: Der Papst ist verstorben
END:VALARM
END:VEVENT
END:VCALENDAR
