BEGIN:VCALENDAR
VERSION:2.0
METHOD:PUBLISH
PRODID:- PBCS IT-News //NONSGML Events //EN
CALSCALE:GREGORIAN
X-WR-CALNAME:ICAL-BLOG
BEGIN:VEVENT
UID:24b4f780-ddce-44ef-a239-8685c54d5691
DTSTAMP:20260419T131133Z
CREATED:20260419T131133Z
SUMMARY:Fahrzeughersteller und Herkunftsländer
DESCRIPTION:https://wp.pbcs.de/fahrzeughersteller-und-herkunftslaender/ - Artikel vom: Do.\, 12. September 2024\, 14:30:14 - Die Auflistung zeigt Fahrzeughersteller (Automarken)\, die mir bisher begegnet sind\, oder / und sich im Autoquartett befinden:\n \n[carlogo brand=all]
LOCATION:https://wp.pbcs.de
CATEGORIES:Gelbe Kategorie
TRANSP:TRANSPARENT
X-MICROSOFT-CDO-BUSYSTATUS:FREE
SEQUENCE:0
CLASS:PUBLIC
PRIORITY:1
DTSTART:20260415T070000Z
DTEND:20260415T080000Z
BEGIN:VALARM
TRIGGER:-PT30M
ACTION:DISPLAY
DESCRIPTION:Reminder for Fahrzeughersteller und Herkunftsländer
END:VALARM
END:VEVENT
END:VCALENDAR
