BEGIN:VCALENDAR
VERSION:2.0
METHOD:PUBLISH
PRODID:- PBCS IT-News //NONSGML Events //EN
CALSCALE:GREGORIAN
X-WR-CALNAME:ICAL-BLOG
BEGIN:VEVENT
UID:63a585e8-389f-4e43-bfd7-ff79c32c2c9b
DTSTAMP:20260425T150542Z
CREATED:20260425T150542Z
SUMMARY:Rezept – Ei Benedikt in der Mikrowelle
DESCRIPTION:https://wp.pbcs.de/ei-benedikt/ - Artikel vom: Mo.\, 9. Juni 2025\, 22:54:47 - Ei Benedikt spezial mit Käse überbacken - oder auch: pochierte Eier kann man in der Mikrowelle machen. Für 1 Personen.\n \nZutaten:\n \n\n1 Scheibe Toast - toasten\n \n1 Stich Butter und Sonnenblumen- oder Rapsöl mischen\, Toast in der Pfanne anbraten\n \n1 Scheibe Kochschinken oder "Prager Schinken" - kurz in der Pfanne anbraten\, dann auf den Toast legen\n \n1 Scheibe Käse (Emmentaler\, Gouda oder ähnlich) auf den Schinkentoast legen und kurz von der Käseseite anschmelzen\, so dass der Käse verläuft\n \n50 ml Sauce Hollandaise (Convenience-Produkt im Tetra-Pak\, z. B. von Thomy) in der Pfanne erhitzen\n\n \nZubereitung:\n \nEi(er)\, kochendes Wasser\, Wasserkocher\, Holzspieß\, kleine Porzellanschale\, Untertasse\, Salz und Pfeffer\n \n\nZuerst Wasser im Wasserkocher aufkochen. Das Wasser in eine kleine Porzellan Schüssel füllen\, so dass diese etwa 3/4 voll ist. Dann das Ei aufschlagen und vorsichtig ins Wasser gleiten lassen. Das Eigelb z. B. mit einem Holz-Spieß anstechen.\n \nNun die Schüssel mit einer Untertasse oder Mikrowellendeckel abdecken\, in der Mikrowelle stellen und bei 600 W für 80 Sekunden köcheln lassen.\n \nAnschließend die Schüssel herausnehmen und das Ei mit einem Esslöffel herausheben. Das Wasser abgießen.\n \nEi auf den Toast legen und mit Sauce Hollandaise übergießen. Dann mit Salz und Pfeffer würzen. \n \nUmgehend servieren und genießen.
LOCATION:https://wp.pbcs.de
CATEGORIES:Gelbe Kategorie
TRANSP:TRANSPARENT
X-MICROSOFT-CDO-BUSYSTATUS:FREE
SEQUENCE:0
CLASS:PUBLIC
PRIORITY:1
DTSTART:20260426T070000Z
DTEND:20260426T080000Z
BEGIN:VALARM
TRIGGER:-PT30M
ACTION:DISPLAY
DESCRIPTION:Reminder for Rezept – Ei Benedikt in der Mikrowelle
END:VALARM
END:VEVENT
END:VCALENDAR
