BEGIN:VCALENDAR
VERSION:2.0
METHOD:PUBLISH
PRODID:- PBCS IT-News //NONSGML Events //EN
CALSCALE:GREGORIAN
X-WR-CALNAME:ICAL-BLOG
BEGIN:VEVENT
UID:edff9077-b29b-4404-93a4-1186796ca2ed
DTSTAMP:20260425T014120Z
CREATED:20260425T014120Z
SUMMARY:Barracuda ESG ist nicht die Firewall
DESCRIPTION:https://wp.pbcs.de/barracuda-esg-ist-nicht-die-firewall/ - Artikel vom: Fr.\, 25. August 2023\, 17:19:31 - Derzeit kursiert eine echte Warnung des FBI mit dem Hinweis\, Barracuda ESG Appliances sofort abzuschalten. Die darin enthaltene Sicherheitslücke wurde nicht nachhaltig geschlossen.\n \nESG steht dabei nicht für "Einscheiben-Sicherheits-Glas"\, sondern für "E-Mail Security Gateway". Das ESG ist auch optisch leicht von der Firewall zu unterscheiden\, da es keine LAN-Anschlüsse am Frontpanel hat.\n \n\nWarnung des FBI vor Einsatz des ESG\n \nBarracuda-Seite zum Fehler\n\n \nBarracuda Firewalls nicht betroffen\n \nWer also\, wie viele von Ihnen eine Barracuda Firewall-Appliance\, wie sie von der NetGo vermarktet wird (diese Geräte beginnen mit "F"\, F18\, F80\, F280\, F380) einsetzt\, ist nicht von der Sicherheitslücke betroffen.
LOCATION:https://wp.pbcs.de
CATEGORIES:Gelbe Kategorie
TRANSP:TRANSPARENT
X-MICROSOFT-CDO-BUSYSTATUS:FREE
SEQUENCE:0
CLASS:PUBLIC
PRIORITY:1
DTSTART:20260425T070000Z
DTEND:20260425T080000Z
BEGIN:VALARM
TRIGGER:-PT30M
ACTION:DISPLAY
DESCRIPTION:Reminder for Barracuda ESG ist nicht die Firewall
END:VALARM
END:VEVENT
END:VCALENDAR
