BEGIN:VCALENDAR
VERSION:2.0
METHOD:PUBLISH
PRODID:- PBCS IT-News //NONSGML Events //EN
CALSCALE:GREGORIAN
X-WR-CALNAME:ICAL-BLOG
BEGIN:VEVENT
UID:0da9d913-5249-46cc-959f-64574f6a65b4
DTSTAMP:20260421T092920Z
CREATED:20260421T092920Z
SUMMARY:Richtig gendern oder was?
DESCRIPTION:https://wp.pbcs.de/richtig-gendern-oder-was/ - Artikel vom: Sa.\, 6. Mai 2023\, 13:36:33 - Disclaimer: Dieser Artikel ist Satire und stellt die Meinung des Autors dar. Andere Meinungen können davon abweichen.\nZur Verbesserung der Lesefreundlichkeit unserer Website\, verwenden wir an einigen Stellen die männliche Form bei Personenbezeichnungen oder personenbezogenen Hauptwörtern. Wir möchten darauf hinweisen\, dass diese Begriffe grundsätzlich für alle Geschlechter gelten und unsererseits keine Wertung enthalten.\n \nNun hat es auch die Getränke-Hersteller erwischt. Seit kurzem heißt das Produkt "Durstlöscher" "Durstlöscher:in" und letztgenannte Beschriftung ist auf den Verpackungen im Handel zu finden.\n \nIm Rahmen meiner Tätigkeit habe ich es mit roten Metallzylindern zur Feuerbekämpfung zu tun. Diese müssen doch auch in Feuerlöscher:innen umbenannt werden. Sehr mißverständlich\, denn was macht man\, wenn es nicht innen brennt\, sondern außen? Gibt es dann Außen-Feuerlöscher:innen? Irgendwie paradox.\n \nDarauf bestelle ich mir erstmal beim nächsten Imbiß einen Döner:innen. Das Personal im Laden nimmt dann der Gerät:innen\, um das Fleisch vom Spieß:innen zu schneiden.\n \nAuch im Straßenverkehr ändert sich einiges. War bisher ein Stauende hinten am Stau\, sind ab sofort Stauende die Verursacher ganz vorn.\n \n\nTipp: Im Prinzip kann man nichts "flasch" machen\, wenn man an jedes männliche Hauptwort ein ":innen" anhängt:\n \n"Wir werden am "Diverse-Tag" (ehemals Vatertag) nach Mitarbeitende (Feierabend) mit dem Wagen:innen einen Ausflug:innen auf den Fichtelberg:innen machen. Auf dem Weg:innen habe ich dann Kopfhörer:innen gegen Nebengeräusche auf und zum Essen (es gibt Döner:innen) werden Salz- und Pfefferstreuer:innen gereicht. Das Grillfeuer machen wir mit dem Außen-Feuerlöscher:innen aus." \nAchtung! Sati(e)re!
LOCATION:https://wp.pbcs.de
CATEGORIES:Gelbe Kategorie
TRANSP:TRANSPARENT
X-MICROSOFT-CDO-BUSYSTATUS:FREE
SEQUENCE:0
CLASS:PUBLIC
PRIORITY:1
DTSTART:20260415T070000Z
DTEND:20260415T080000Z
BEGIN:VALARM
TRIGGER:-PT30M
ACTION:DISPLAY
DESCRIPTION:Reminder for Richtig gendern oder was?
END:VALARM
END:VEVENT
END:VCALENDAR
