BEGIN:VCALENDAR
VERSION:2.0
METHOD:PUBLISH
PRODID:- PBCS IT-News //NONSGML Events //EN
CALSCALE:GREGORIAN
X-WR-CALNAME:ICAL-BLOG
BEGIN:VEVENT
UID:d00ead57-7d88-428a-93fc-43da7100b3f8
DTSTAMP:20260425T163553Z
CREATED:20260425T163553Z
SUMMARY:Microsoft Fenster
DESCRIPTION:https://wp.pbcs.de/microsoft-fenster/ - Artikel vom: Di.\, 18. Januar 2022\, 17:09:48 - Auch moderne Web-Interfaces bekommen immer wieder mal Übersetzungen in Landessprache spendiert. Während einige Oberflächen von #Microsoft wie die modernisierte Exchange online Admin-Oberfläche noch englisch sind\, hat Microsoft an der Übersetzung im Azure Preisrechner gearbeitet:\n \nMicrosoft Fenster oder Linux - das ist hier die Frage\n \nIch bleibe bis 2025 erstmal Fan von Fenster 10 Enterprise (im LangZeit WartungsKanal) \;)
LOCATION:https://wp.pbcs.de
CATEGORIES:Gelbe Kategorie
TRANSP:TRANSPARENT
X-MICROSOFT-CDO-BUSYSTATUS:FREE
SEQUENCE:0
CLASS:PUBLIC
PRIORITY:1
DTSTART:20260425T070000Z
DTEND:20260425T080000Z
BEGIN:VALARM
TRIGGER:-PT30M
ACTION:DISPLAY
DESCRIPTION:Reminder for Microsoft Fenster
END:VALARM
END:VEVENT
END:VCALENDAR
