BEGIN:VCALENDAR
VERSION:2.0
METHOD:PUBLISH
PRODID:- PBCS IT-News //NONSGML Events //EN
CALSCALE:GREGORIAN
X-WR-CALNAME:ICAL-BLOG
BEGIN:VEVENT
UID:4e8e4ac8-0296-4e55-9c2d-2806c15ca8de
DTSTAMP:20260419T152424Z
CREATED:20260419T152424Z
SUMMARY:Clipart kostenlos von Microsoft
DESCRIPTION:https://wp.pbcs.de/clipart-kostenlos-von-microsoft/ - Artikel vom: Do.\, 11. August 2022\, 15:54:33 - Seit etwa einer Woche liefert Microsoft neue\, animierte 3D-Emojis in Teams aus. Seit längerem lassen sich mit Windows 10 über die Tastenkombination Windows&Punkt Emojis und andere Symbole in E-Mails und andere Anwendungen einfügen.\n \nNeu ist\, dass die "FluentUI Design Icons" unter einer MIT-License (diese ist Open-Souce und hat keine Einschränkungen hinsichtlich der Nutzung\, Veränderung oder Verwendung) freigegeben sind.\n \nBeispiele aus den über 3.000 Symbolen\n \nEs handelt sich um etwa 3.100 Symbole aus allen Bereichen. Dazu zählen nicht nur zahlreiche Emojis und Gesten\, sondern auch Symbole aus dem Alltag\, die beispielsweise Artikel in einer Internetseite aufwerten bzw. strukturierter lesbar gestalten können. Die Bilder liegen im 256x256 Pixel PNG Format vor.\n \nWer also die Clipart verwenden möchte\, kann dies gern tun.\n \nGithub Ressource. Über Code/Download kann die Clipart heruntergeladen werden.https://github.com/microsoft/fluentui-emoji
LOCATION:https://wp.pbcs.de
CATEGORIES:Gelbe Kategorie
TRANSP:TRANSPARENT
X-MICROSOFT-CDO-BUSYSTATUS:FREE
SEQUENCE:0
CLASS:PUBLIC
PRIORITY:1
DTSTART:20260415T070000Z
DTEND:20260415T080000Z
BEGIN:VALARM
TRIGGER:-PT30M
ACTION:DISPLAY
DESCRIPTION:Reminder for Clipart kostenlos von Microsoft
END:VALARM
END:VEVENT
END:VCALENDAR
