BEGIN:VCALENDAR
VERSION:2.0
METHOD:PUBLISH
PRODID:- PBCS IT-News //NONSGML Events //EN
CALSCALE:GREGORIAN
X-WR-CALNAME:ICAL-BLOG
BEGIN:VEVENT
UID:27a9208f-7bc9-4fd1-969e-7dee7d90a5ca
DTSTAMP:20260419T152713Z
CREATED:20260419T152713Z
SUMMARY:Im Restaurant verboten\, im Rätsel erlaubt?
DESCRIPTION:https://wp.pbcs.de/im-restaurant-verboten-im-raetsel-erlaubt/ - Artikel vom: So.\, 29. Mai 2022\, 00:17:32 - viele erinnern sich noch an die Diskussion um die Apotheke in Frankfurt\, die viele Jahre "M*ohren-Apotheke" als Firmennamen trug. Weil das Wort "M*ohr" irgendwann politisch nicht mehr korrekt war\, musste die Apotheke sich umbenennen. Gleiches erfuhr die ehemalige Schokoladenmarke "Sarotti". "Schaumküsse heißen die Artikel eines anderen Herstellers nun.\n \nIn vielen Restaurants musste die Speisenkarten neu gedruckt werden\, weil man dort "Z*igeunersoße" zu den Pommes Frites bekam - oder gar ein "Z*igeunerschnitzel".\n \nAuch in Märchenbüchern und vielen Geschichten wie Pippi Langstrumpf kommt der "N*eger" vor. Auch wenn in allen Fällen die Wortwahl in keinster Weise abwertend gemeint ist\, wählen alle aus "political correctness" - und weil man es eben abwertend verwenden könnte\, andere Worte wie "Menschen aus Afrika"\, "Personen mit Migrationshintergrund"\, "Paprikasoße" - und die Apotheke heißt nun "Möhrenapotheke" (zwei Punkte anzugringen am Schriftzug war einfach). Und dabei aber bitteschön das gen:dern nicht vergessen!\n \nIn unserer Zeitung\, die auch überregional verlegt\, erscheint am Samstag immer ein ganzseitiges Kreuzworträtsel. Dass in dem Rätsel vom 21.05.2022 gleich zwei der oben genannten Worte erschienen\, ist politisch nicht korrekt - und sollte vermieden werden. Es wurde nach "N*eger" gefragt: Lösung: "Farbiger" (gleich ein doppeltes Fettnäpfchen\, denn sowohl Fragewort\, als auch Lösung sind nicht korrekt) und auch nach "Z*igeuner"\, Lösung: "Sinti".\n \nNun werden solche Kreuzworträtsel per Computerprogramm aus einer Datenbank von vielen tausend Wörtern generiert. Ich erwarte aber von Anbietern solcher Datenbanken\, politisch nicht korrekte Rätselwörter zu entfernen. \n \nAuch hätte die Redaktion zumindest mal über das Rätsel drüber schauen können und die tausendfache Veröffentlichung auf Papier und als e-Paper stoppen.\n \nAber es kommt noch schlimmer. Meine kurze Recherche ergab\, dass ein Kreuzwort-Rätsellexikon\, das kostenlos und öffentlich agiert - ebenfalls diese Wörter und Suchbegriffe noch haben. Hier besteht dringender Handlungsbedarf\, insbesondere aber bei Anbietern von Kreuzworträtsel Datenbanken.\n \n\nhttps://www.kreuzwortraetsellexikon.de/hilfe/*eger < N-Wort - geht ja gar nicht!https://www.kreuzwortraetsellexikon.de/hilfe/*igeuner < Z-Wort - ebenso tabu!https://www.kreuzwortraetsellexikon.de/hilfe/mohrenkopf < Schaumküsse müssen die Artikel nun heißen!https://www.kreuzwortraetsellexikon.de/hilfe/eskimo < für alle\, die es noch nicht wissen\, fühlen sich die Innuit beleidigt\, wenn man Sie so nennt!\nKreuzworträtsellexikon online
LOCATION:https://wp.pbcs.de
CATEGORIES:Gelbe Kategorie
TRANSP:TRANSPARENT
X-MICROSOFT-CDO-BUSYSTATUS:FREE
SEQUENCE:0
CLASS:PUBLIC
PRIORITY:1
DTSTART:20260418T070000Z
DTEND:20260418T080000Z
BEGIN:VALARM
TRIGGER:-PT30M
ACTION:DISPLAY
DESCRIPTION:Reminder for Im Restaurant verboten\, im Rätsel erlaubt?
END:VALARM
END:VEVENT
END:VCALENDAR
