BEGIN:VCALENDAR
VERSION:2.0
METHOD:PUBLISH
PRODID:- PBCS IT-News //NONSGML Events //EN
CALSCALE:GREGORIAN
X-WR-CALNAME:ICAL-BLOG
BEGIN:VEVENT
UID:61b8ce7f-873e-401c-8bb2-6bef9fa43202
DTSTAMP:20260420T134521Z
CREATED:20260420T134521Z
SUMMARY:Sicherheitslücke in HP-Druckertreibern
DESCRIPTION:https://wp.pbcs.de/sicherheitsluecke-in-hp-druckertreibern/ - Artikel vom: Do.\, 22. Juli 2021\, 21:20:00 - viele von Ihnen setzen Drucker von HP im Unternehmen ein. Für eine größere Anzahl von Modellen wurden nun auch kritische #Sicherheitslücken geschlossen. Schauen Sie bitte im folgenden Artikel ("affected Products" aufklappen) nach\, ob ein Drucker aus der Liste bei Ihnen in Betrieb ist. Weil HP die Druckersparte von Samsung aufgekauft hat\, sind auch Geräte dieser Marke betroffen. \n \nHP Security Bulletin zur kritischen Lückehttps://support.hp.com/us-en/document/ish_3900395-3833905-16\n \nIn der Druckverwaltung auf Ihrem Printserver können Sie sehen\, mit welchem Treiber der Drucker betrieben wird. Steht dort NICHT "Universal Printer Driver" - PCL5 oder PCL6\, sind Sie von der Sicherheitslücke betroffen und sollten die auf der HP-Seite angebotenen Treiber ersetzen.\n \nDie verwendeten HP Universal-Druckertreiber (PCL5 nur für ältere Modelle\, sonst PCL6) sollten bei der Gelegenheit ebenfalls überprüft werden\, ob sie aktuell sind:\n \nPCL6: 61.250.1.24832PCL5: 61.180.1.20062 (wird nicht mehr weiter entwickelt\, sollte aber die letzte unterstützte Version sein
LOCATION:https://wp.pbcs.de
CATEGORIES:Gelbe Kategorie
TRANSP:TRANSPARENT
X-MICROSOFT-CDO-BUSYSTATUS:FREE
SEQUENCE:0
CLASS:PUBLIC
PRIORITY:1
DTSTART:20260417T070000Z
DTEND:20260417T080000Z
BEGIN:VALARM
TRIGGER:-PT30M
ACTION:DISPLAY
DESCRIPTION:Reminder for Sicherheitslücke in HP-Druckertreibern
END:VALARM
END:VEVENT
END:VCALENDAR
