BEGIN:VCALENDAR
VERSION:2.0
METHOD:PUBLISH
PRODID:- PBCS IT-News //NONSGML Events //EN
CALSCALE:GREGORIAN
X-WR-CALNAME:ICAL-BLOG
BEGIN:VEVENT
UID:efef13e3-213b-4e6b-b5f3-61e3e47262e0
DTSTAMP:20260424T100928Z
CREATED:20260424T100928Z
SUMMARY:Windows 10 ohne Sicherheitsupdates
DESCRIPTION:https://wp.pbcs.de/windows-10-ohne-sicherheitsupdates/ - Artikel vom: So.\, 31. Januar 2021\, 11:58:41 - Mit der Einführung von #Windows 10 hat Microsoft auf das Modell\, 2x pro Jahr Funktionsupdates zu liefern ( bei monatlichen #Sicherheitsupdates ) umgestellt. Risiko dabei: Nach 18 Monaten ist Support-Ende und damit enden auch die Sicherheitsupdates für diese Windows 10 Versionen und das Risiko\, erfolgreich angegriffen zu werden steigt signifikant an.\n \nEin Beispiel: Mit dem Rechner wurde Windows 10 Version 1903 ausgeliefert. Diese ist am 08. Juni 2019 erschienen. Ende der Sicherheits-Updates also war der 20.Dezember 2020. \n \nAkuter Handlungsbedarf\n \nPrüfen Sie über Ihr Inventar-Werkzeug (z. B. Open-Audit Classic)\, oder durch Aufrufen des Befehls "WINVER" an der Eingabeaufforderung\, welche Windows 10 Versionen Sie im Einsatz haben. Die in der Tabelle rot dargestellten Versionen müssen aus Sicherheitsgründen sofort aktualisiert werden\, die gelb markierten Versionen folgen ab 11. Mai 2021:\n \nWindows 10 VersionEnde der SicherheitsupdatesWindows 10 21H1 (erscheint März 2021)12. Dezember 2023 (30 Monate)Windows 10 20H2 (von Dez 2020)9. Mai 2023 (30 Monate)Windows 10 2004 (Juni 2020)14. Dezember 2021Windows 10 1909 (November 2019)10. Mai 2022 (30 Monate)Windows 10 19038. Dezember 2020Windows 10 1809 (von Nov 2018)11. Mai 2021 (30 Monate)Windows 10 1803 (von Mai 2018)11. Mai 2021 (36 Monate)Windows 10 170911. März 2019Matrix Support-Ende\, 18 Monate nach Erscheinen einer Version von Windows 10\n \n[time_until date="01.05.2021"]\n \nHintergrundwissen\n \nDas komplett-Update war dabei anfangs 2x pro Jahr quasi eine Neuinstallation des Betriebssystems mit Migration der Daten und dauerte etwa 45-90 Minuten pro PC (je nach Ausstattung ob mit SSD und mit 8GB RAM oder nicht). Mittlerweile findet dieses Komplettupdate durchschnittlich 1x pro Jahr statt.\n \nHat man nicht die Windows 10 Enterprise (LTSC 2015) Version gemietet oder einen #Microsoft 365 -Plan mit Betriebssystemlizenz und Windows Virtual Desktop\, muss man die Funktions-Updates zeitnah\, spätestens jedoch 18 Monate nach Erscheinen der Version aktualisieren.\n \nKurioserweise weichen die Versionen 1809 und 1803 und 1909 und 2004 von der Regel ab\, denn sie sind "länger haltbar". Auch zukünftige Versionen werden\, wenn es dabei bleibt\, 30 Monate nutzbar sein.
LOCATION:https://wp.pbcs.de
CATEGORIES:Gelbe Kategorie
TRANSP:TRANSPARENT
X-MICROSOFT-CDO-BUSYSTATUS:FREE
SEQUENCE:0
CLASS:PUBLIC
PRIORITY:1
DTSTART:20260425T070000Z
DTEND:20260425T080000Z
BEGIN:VALARM
TRIGGER:-PT30M
ACTION:DISPLAY
DESCRIPTION:Reminder for Windows 10 ohne Sicherheitsupdates
END:VALARM
END:VEVENT
END:VCALENDAR
