BEGIN:VCALENDAR
VERSION:2.0
METHOD:PUBLISH
PRODID:- PBCS IT-News //NONSGML Events //EN
CALSCALE:GREGORIAN
X-WR-CALNAME:ICAL-BLOG
BEGIN:VEVENT
UID:f2da3fee-b096-4b4e-a105-8d8fc4add141
DTSTAMP:20260425T150631Z
CREATED:20260425T150631Z
SUMMARY:Windows 10 21H1 wird wieder ein kleines Update
DESCRIPTION:https://wp.pbcs.de/windows-10-21h1-wird-wieder-ein-kleines-update/ - Artikel vom: Di.\, 2. März 2021\, 21:29:51 - Update vom 25. Feb 2021: Nun ist auch das Enablement Package fertig. Der Build hebt sich damit auf 19043.844 an. Microsoft wird das Update 21H1 vermutlich am März-Patchday 2021 verteilen.\n \nUpdate vom 10. Feb 2021: Der Release-(Update)-Build\, der alle neuen Features enthält\, ist Build 782. Mit dem Funktionsupdate von DI\,26. Januar 2021 haben alle 20H2 Benutzer bereits die Features installiert. Mit einer Hand voll DISM Befehle lassen sich diese schon jetzt freischalten.\n \nMicrosoft hat beschlossen\, dass das im April 2021 erscheinende Funktions-#Update #21H1 wieder ein kleines Update wird. Das bedeutet\, die Basis bleibt weiterhin „19041.1.amd64fre.vb_release.191206-1406“. Durch ein Update-Enablement Package von wenigen KB Größe werden lediglich Features\, die derzeit nur den Insidern zur Verfügung stehen\, allen Windows-Nutzern freigeschaltet. Die Freischaltung erfolgt in mehreren Wellen nach Bereitstellung des üblichen Patchpakets am 2. Dienstag im Monat.\n \nDurch das Freischaltpaket wird bei der Windows Version (mit WINVER) Build 19043 angezeigt (derzeit haben wir 20H2 aktuell mit 19042). Folgt man dem Release-Plan von Microsoft\, ist für den Spät-Herbst 2021 dann wieder ein großes Upgrade geplant\, bei dem quasi das Betriebssystem neu installiert und der Core Build erhöht wird auf eine 21000er Zahl.\n \n(Beitrag: 1471\, erstellt am: 27.12.2020 10:49:16 von: Patrick Bärenfänger)
LOCATION:https://wp.pbcs.de
CATEGORIES:Gelbe Kategorie
TRANSP:TRANSPARENT
X-MICROSOFT-CDO-BUSYSTATUS:FREE
SEQUENCE:0
CLASS:PUBLIC
PRIORITY:1
DTSTART:20260426T070000Z
DTEND:20260426T080000Z
BEGIN:VALARM
TRIGGER:-PT30M
ACTION:DISPLAY
DESCRIPTION:Reminder for Windows 10 21H1 wird wieder ein kleines Update
END:VALARM
END:VEVENT
END:VCALENDAR
