BEGIN:VCALENDAR
VERSION:2.0
METHOD:PUBLISH
PRODID:- PBCS IT-News //NONSGML Events //EN
CALSCALE:GREGORIAN
X-WR-CALNAME:ICAL-BLOG
BEGIN:VEVENT
UID:f1a99399-a2b5-4a3f-8097-822361c8aa8c
DTSTAMP:20260424T100933Z
CREATED:20260424T100933Z
SUMMARY:Office 365 ist jetzt generell Microsoft 365
DESCRIPTION:https://wp.pbcs.de/office-365-ist-jetzt-generell-microsoft-365/ - Artikel vom: Di.\, 19. Mai 2020\, 15:25:12 - Microsoft hat nun die Produktlinie Ihrer Mietprodukte rund um #Windows und #Office365 vereinheitlicht.Alle Pläne (Produkte) beginnen nun mit: Microsoft 365. Ursprünglich war geplant\, die E-Pläne noch Office Namen tragen zu lassen.Wie man am Bild erkennen kann\, haben die Programmierer vergessen\, das Skype for Business Icon gegen Teams auszutauschen\, denn installiert wurde tatsätchlich Teams. In der Setup-Datei von Office ist explizit Lync als exclude gekennzeichnet.Es ist auch nicht installiert\, aber bei der Lizenzinformation wird es noch angezeigt.\n \nVisio bleibt ein separat zu erwerbendes (zu mietendes) Produkt\, genau so wie Project. Alle Produkte sind jedoch in EINER Installationsdatei enthalten.Durch die configure32.xml bei der Installation bestimmt man\, welche Produkte installiert werden. Kann einzelne Software nicht aktiviert werden (weil keine Lizenz vor liegt)\, wird aus der installierten Komponente ein Viewer.Vorteil der Visio Version 2019 ist\, dass man es nun parallel zu Microsoft 365 auf einem Rechner installieren kann. Beide Verfahren nutzen Click2Run.So lässt sich die Volumen- oder Retail-Kaufversion von Visio 365 mit dem Mietplan von Microsoft 365 Apps für Enterprise oder Business kombinieren.
LOCATION:https://wp.pbcs.de
CATEGORIES:Gelbe Kategorie
TRANSP:TRANSPARENT
X-MICROSOFT-CDO-BUSYSTATUS:FREE
SEQUENCE:0
CLASS:PUBLIC
PRIORITY:1
DTSTART:20260425T070000Z
DTEND:20260425T080000Z
BEGIN:VALARM
TRIGGER:-PT30M
ACTION:DISPLAY
DESCRIPTION:Reminder for Office 365 ist jetzt generell Microsoft 365
END:VALARM
END:VEVENT
END:VCALENDAR
