BEGIN:VCALENDAR
VERSION:2.0
METHOD:PUBLISH
PRODID:- PBCS IT-News //NONSGML Events //EN
CALSCALE:GREGORIAN
X-WR-CALNAME:ICAL-BLOG
BEGIN:VEVENT
UID:53a48c90-2c30-4838-93f1-d81dcee9b8e8
DTSTAMP:20260425T153317Z
CREATED:20260425T153317Z
SUMMARY:Besprechungs-Timer
DESCRIPTION:https://wp.pbcs.de/timer/ - Artikel vom: Sa.\, 14. März 2020\, 22:49:24 - 
LOCATION:https://wp.pbcs.de
CATEGORIES:Gelbe Kategorie
TRANSP:TRANSPARENT
X-MICROSOFT-CDO-BUSYSTATUS:FREE
SEQUENCE:0
CLASS:PUBLIC
PRIORITY:1
DTSTART:20260426T070000Z
DTEND:20260426T080000Z
BEGIN:VALARM
TRIGGER:-PT30M
ACTION:DISPLAY
DESCRIPTION:Reminder for Besprechungs-Timer
END:VALARM
END:VEVENT
END:VCALENDAR
