BEGIN:VCALENDAR
VERSION:2.0
METHOD:PUBLISH
PRODID:- PBCS IT-News //NONSGML Events //EN
CALSCALE:GREGORIAN
X-WR-CALNAME:ICAL-BLOG
BEGIN:VEVENT
UID:81c831f7-e635-414c-9b54-fbd64c95de74
DTSTAMP:20260420T163324Z
CREATED:20260420T163324Z
SUMMARY:Warum Win7 und Server 2008 R2 ab Januar ein Risiko sind
DESCRIPTION:https://wp.pbcs.de/warum-win7-und-server-2008-r2-ab-januar-ein-risiko-sind/ - Artikel vom: Di.\, 17. Dezember 2019\, 12:46:23 - Sicherheitsrisiken\nAm 20. Januar endet der erweiterte Support und damit die Sicherheits-Updates für Windows 7 und alle Produkte mit der Jahreszahl 2008 in der Versionsnummer.\nZusätzlich gab Microsoft nun bekannt\, dass die Microsoft Security Essentials ebenfalls keine Virenschutz-Updates mehr bekommen. \nWer also ab 20. Januar Windows 7 einsetzt\, hat nicht nur die Sicherheitslücken von Windows ungepatcht\, sondern nicht mal mehr einen kostenlosen Virenschutz mit Bordmitteln zur Verfügung. Solche Systeme sind dann doppelt unsicher.\nSelbst wenn man Geld in Kaspersky Endpoint Security for Business investiert\, schließt auch ein solcher Bezahl-Virenscanner die Sicherheitslücken im Betriebssystem nicht mehr. Aktuell unterstützt Version 11.2 von KES noch die Windows 7/Server 2008 R2 Plattform - es ist aber nur eine Frage der Zeit\, bis auch hier keine Updates mehr kommen.\n\nBenutzer von Windows 8.1 haben zumindest den Windows Defender Virenschutz der ersten Generation und auch die Betriebssystem-Patches weiter versorgt (bis 2023).\n\nFazit:\nSpätestens bis 20. Januar 2020 müssen Windows 7 und Windows Server 2008 Systeme ausgetauscht sein. Neue Clients enthalten Windows 10 Pro und aktuelle Server Windows Server 2019. In vielen Fällen ist bereits jetzt das Mieten von Soft- und Hardware in der Microsoft Cloud eine wirtschaftliche Alternative.\n (Post ID:1430\, erstellt am: 17.12.2019 11:27:22 von: Patrick Bärenfänger)
LOCATION:https://wp.pbcs.de
CATEGORIES:Gelbe Kategorie
TRANSP:TRANSPARENT
X-MICROSOFT-CDO-BUSYSTATUS:FREE
SEQUENCE:0
CLASS:PUBLIC
PRIORITY:1
DTSTART:20260421T070000Z
DTEND:20260421T080000Z
BEGIN:VALARM
TRIGGER:-PT30M
ACTION:DISPLAY
DESCRIPTION:Reminder for Warum Win7 und Server 2008 R2 ab Januar ein Risiko sind
END:VALARM
END:VEVENT
END:VCALENDAR
