BEGIN:VCALENDAR
VERSION:2.0
METHOD:PUBLISH
PRODID:- PBCS IT-News //NONSGML Events //EN
CALSCALE:GREGORIAN
X-WR-CALNAME:ICAL-BLOG
BEGIN:VEVENT
UID:0f202450-f7e6-4182-88c2-6b7ad9bad084
DTSTAMP:20260425T102318Z
CREATED:20260425T102318Z
SUMMARY:Mercedes Adapter App 3.0.50 – Veränderungen
DESCRIPTION:https://wp.pbcs.de/mercedes-adapter-app-3-0-50-veraenderungen/ - Artikel vom: Sa.\, 3. August 2019\, 16:10:10 - Bewertung nur ein Stern von 5 auch für die #Mercedes Connectme Adapter App 3.0.50:- es gibt kein Widget mehr- Motoröltemperatur ist immer noch nicht wieder auswählbar\, obwohl im AMG-Menü und bis Ver2.1 vorhanden- Tankinhalt Liter ebenso nicht mehr im Cockpit wählbar- teilweise kann Standort nicht bestimmt werden und Fahrtende wird nicht erkannt.+ Cockpit startet nun wieder automatisch.- App erfasst keine Daten\, wenn andere App im Vordergrund ist\n \nSchade\, denn das Konzept der App finde ich nach wie vor gut. Wenn alles oben genannte funktionieren würde\, wäre der Akkuverbrauch der App und des Adapters im Auto verschmerzbar (Auto darf nicht länger als 3 Wochen unbewegt stehen\, sonst 30 Minuten Batterienotlaufmodus).
LOCATION:https://wp.pbcs.de
CATEGORIES:Gelbe Kategorie
TRANSP:TRANSPARENT
X-MICROSOFT-CDO-BUSYSTATUS:FREE
SEQUENCE:0
CLASS:PUBLIC
PRIORITY:1
DTSTART:20260426T070000Z
DTEND:20260426T080000Z
BEGIN:VALARM
TRIGGER:-PT30M
ACTION:DISPLAY
DESCRIPTION:Reminder for Mercedes Adapter App 3.0.50 – Veränderungen
END:VALARM
END:VEVENT
END:VCALENDAR
