BEGIN:VCALENDAR
VERSION:2.0
METHOD:PUBLISH
PRODID:- PBCS IT-News //NONSGML Events //EN
CALSCALE:GREGORIAN
X-WR-CALNAME:ICAL-BLOG
BEGIN:VEVENT
UID:4d07df1b-5913-4bc0-9129-bb8a9b8598a6
DTSTAMP:20260423T201910Z
CREATED:20260423T201910Z
SUMMARY:Faststone Image Viewer 7.8 Fotodruck 4 Bilder auf eine A4-Seite drucken
DESCRIPTION:https://wp.pbcs.de/faststone-image-viewer-fotodruck-4-bilder-auf-eine-a4-seite-drucken/ - Artikel vom: So.\, 23. Juni 2024\, 16:21:15 - Fotodruck 4 Bilder auf A4 mit/ohne Gamma mit FullHD-Resize:\n \nGewünschte Bilder markieren mit ^\n \nStrg&Q (zeigt nur markierte Dateien an)\n \nF3 (Stapelbearbeitung)- Ausgabeordner auf c:\\temp\\do einstellen- Erweiterte Funktionen: Einstellungen aus Datei laden: (Auflösung\, ggf. Gamma und kopieren nach c:\\temp\\do)\n \n 1-bilderkonvertierung#fhd-ohnegamma.ccf - für neuere HP-Drucker wie HP Color M255 4-bilderkonvertierung#fhd-gamma.ccf - für ältere HP-Drucker wie color 1525 3-ki-bilder-600-600.ccf - für Quizbilder aus Microsoft Designer 2-sundowns.ccf - für Fotogalerien auf der Website\n \nNach c:\\temp\\do wechseln und W für Windows Explorer drücken\n \n- OK\, Umwandeln\n \nStrg&A - alle Dateien markieren\, rechte Maustaste\, drucken\, Kontaktabzug mit 2x2 Bildern\, Bild NICHT an Rahmen anpassen\, OK
LOCATION:https://wp.pbcs.de
CATEGORIES:Gelbe Kategorie
TRANSP:TRANSPARENT
X-MICROSOFT-CDO-BUSYSTATUS:FREE
SEQUENCE:0
CLASS:PUBLIC
PRIORITY:1
DTSTART:20260424T070000Z
DTEND:20260424T080000Z
BEGIN:VALARM
TRIGGER:-PT30M
ACTION:DISPLAY
DESCRIPTION:Reminder for Faststone Image Viewer 7.8 Fotodruck 4 Bilder auf eine A4-Seite drucken
END:VALARM
END:VEVENT
END:VCALENDAR
