BEGIN:VCALENDAR
VERSION:2.0
METHOD:PUBLISH
PRODID:- PBCS IT-News //NONSGML Events //EN
CALSCALE:GREGORIAN
X-WR-CALNAME:ICAL-BLOG
BEGIN:VEVENT
UID:06c40ac4-4cd0-456e-a869-b5d019b9d740
DTSTAMP:20260419T131808Z
CREATED:20260419T131808Z
SUMMARY:Wegbeschreibung und Anfahrtskizze
DESCRIPTION:https://wp.pbcs.de/wegbeschreibung-und-anfahrtskizze/ - Artikel vom: Fr.\, 21. Dezember 2018\, 23:55:00 - What3words Adresse: ///lebewesen.meldet.runde (z. B. in Mercedes-Fahrzeugen sprechen: "Hey Mercedes\, navigiere zur Three words Adresse")\n \nHinweis: Wir erstellen auch Anfahrtbeschreibungen und -Zeichnungen für Ihr Unternehmen.\n \nVon Westen\, A2 (Oberhausen) oder von Osten\, A2 (Hannover)\n \nAbfahrt KAMEN/BERGKAMEN (Nr. 15)\, dann rechts abbiegen. An der ersten Ampel-Kreuzungwieder rechts. Am nächsten STOP-Schild rechts. Drei Ampelkreuzungen geradeaus.Erste Straße wieder rechts (AUF DER WORTH). Drittes Haus (Nr. 4\, weißer Zaun) auf der rechtenStraßenseite.\n \nVon Süden\, A1 (Köln) oder von Norden\, A1 (Bremen)\n \nAbfahrt KAMEN ZENTRUM (Nr. 83)\, dann links abbiegen.Drei Ampelkreuzungen geradeaus fahren. Nächste Ampel links Richtung Bergkamen. Vorbeian VW Autohaus Jehrke bis zur nächsten Ampelkreuzung. Dort rechts abbiegen.Erste Straße wieder rechts (AUF DER WORTH). Drittes Haus (Nr. 4\, weißer Zaun) auf der rechtenStraßenseite.\n \n\n \nBildnachweis und Copyright: OpenStreetMap\n \nNavigieren\n \nKlicken Sie auf diesen OpenStreetMap-Link und geben am grünen Marker Ihren Abfahrtsort ein. So erhalten Sie eine Navigationsanweisung.
LOCATION:https://wp.pbcs.de
CATEGORIES:Gelbe Kategorie
TRANSP:TRANSPARENT
X-MICROSOFT-CDO-BUSYSTATUS:FREE
SEQUENCE:0
CLASS:PUBLIC
PRIORITY:1
DTSTART:20260416T070000Z
DTEND:20260416T080000Z
BEGIN:VALARM
TRIGGER:-PT30M
ACTION:DISPLAY
DESCRIPTION:Reminder for Wegbeschreibung und Anfahrtskizze
END:VALARM
END:VEVENT
END:VCALENDAR
