BEGIN:VCALENDAR
VERSION:2.0
METHOD:PUBLISH
PRODID:- PBCS IT-News //NONSGML Events //EN
CALSCALE:GREGORIAN
X-WR-CALNAME:ICAL-BLOG
BEGIN:VEVENT
UID:bf375f6a-6ff5-4c43-9f89-71a456aac2e3
DTSTAMP:20260424T101016Z
CREATED:20260424T101016Z
SUMMARY:Windows 10 1809 Update 3
DESCRIPTION:https://wp.pbcs.de/windows-10-1809-update-3/ - Artikel vom: So.\, 25. November 2018\, 14:30:15 - Aller guten Dinge sind drei. Nachdem es beim Verteilen des aktuellen Windows Updates und damit auch bei Server 2019 größere Probleme gegeben hatte\, sind beide Produkte seit 16. November wieder als Installationsmedien herunterladbar. Windows 10 wird automatisch aktualisiert\, während man für den Server 2019 Lizenzen benötigt. Die ausgerollte Version lautet inklusive dem November Sicherheitsupdate: 10.0.17763.134. Der Windows #Server hat - wie auch Office 2019 eine verkürzte Support-Laufzeit von 5 Jahren zzgl. Extended Support 2 Jahre. Sicherheitsupdates werden demnach für dieses Produkt im Herbst 2025 eingestellt ( #endoflife - EOL ). Das ist der gleiche Zeitpunkt\, an dem auch die Updates für Windows Server 2016 endet. (Post ID:1180)
LOCATION:https://wp.pbcs.de
CATEGORIES:Gelbe Kategorie
TRANSP:TRANSPARENT
X-MICROSOFT-CDO-BUSYSTATUS:FREE
SEQUENCE:0
CLASS:PUBLIC
PRIORITY:1
DTSTART:20260425T070000Z
DTEND:20260425T080000Z
BEGIN:VALARM
TRIGGER:-PT30M
ACTION:DISPLAY
DESCRIPTION:Reminder for Windows 10 1809 Update 3
END:VALARM
END:VEVENT
END:VCALENDAR
