BEGIN:VCALENDAR
VERSION:2.0
METHOD:PUBLISH
PRODID:- PBCS IT-News //NONSGML Events //EN
CALSCALE:GREGORIAN
X-WR-CALNAME:ICAL-BLOG
BEGIN:VEVENT
UID:294b46ca-76cd-4e9e-b868-1afb9107221a
DTSTAMP:20260420T130535Z
CREATED:20260420T130535Z
SUMMARY:November Sicherheits-Update macht Epson Drucker unbrauchbar
DESCRIPTION:https://wp.pbcs.de/november-sicherheits-update-macht-epson-drucker-unbrauchbar/ - Artikel vom: Fr.\, 1. Dezember 2017\, 13:13:59 - Auch die beliebte Bondrucker-TM-Serie war betroffen - und alle Versionen von Windows ab 7 und #Windows Server ab 2008 R2. Update 30.11. mit Build 98 ist nun auch ein Update für Windows 1709 verfügbar und wird verteilt. Mittlerweile gibt es Updates\, die den Fehler wieder beheben: "Addressed issue that affected some Epson SIDM (Dot Matrix) and TM (POS) printers\, which were failing to print on x86-based and x64-based systems. This issue affects KB4048954" Das Update wird über Windows Update bereit gestellt. Bis auf Windows 10 - 1709 ist somit der Bug wieder beseitigt. Es ist damit zu rechnen\, dass auch hier in den nächsten Tagen ein Update kommt. Bis dahin bitte auf den Kassen-Arbeitsplätzen und PCs mit Epson Bondruckern das November Update zurückrufen. (Letzte Revision: 01.12.2017 11:11:12) (Post ID:1120)
LOCATION:https://wp.pbcs.de
CATEGORIES:Gelbe Kategorie
TRANSP:TRANSPARENT
X-MICROSOFT-CDO-BUSYSTATUS:FREE
SEQUENCE:0
CLASS:PUBLIC
PRIORITY:1
DTSTART:20260421T070000Z
DTEND:20260421T080000Z
BEGIN:VALARM
TRIGGER:-PT30M
ACTION:DISPLAY
DESCRIPTION:Reminder for November Sicherheits-Update macht Epson Drucker unbrauchbar
END:VALARM
END:VEVENT
END:VCALENDAR
