BEGIN:VCALENDAR
VERSION:2.0
METHOD:PUBLISH
PRODID:- PBCS IT-News //NONSGML Events //EN
CALSCALE:GREGORIAN
X-WR-CALNAME:ICAL-BLOG
BEGIN:VEVENT
UID:f173524f-fd0a-4757-bc86-164add70607f
DTSTAMP:20260423T220012Z
CREATED:20260423T220012Z
SUMMARY:Windows 10 Build 15063
DESCRIPTION:https://wp.pbcs.de/windows-10-build-15063/ - Artikel vom: Do.\, 23. März 2017\, 20:20:14 - soll laut Microsoft Insider Team der finale Build für das #Creators-Upgrade sein. Kleinere bugs werden in den nächsten Tagen noch behoben\, ab nächster Woche soll die offizielle ISO für Partner und PC-Hersteller zur Verfügung stehen. Der Veröffentlichungs-Termin wurde auf den 11. April verschoben (nach dem April-Patchday von Microsoft). Das Creators Upgrade ist die dritte Version von Windows 10 und enthält insbesondere im Update-Verfahren deutliche Verbesserungen (ein kleineres Differenzpaket statt kumulativem Update monatlich). Windows Update prüft dabei\, welchen Updatestand der PC hat und stellt live das passende Paket zum Download zusammen. (Letzte Revision: 23.03.2017 19:20:14) (Post ID:1058)
LOCATION:https://wp.pbcs.de
CATEGORIES:Gelbe Kategorie
TRANSP:TRANSPARENT
X-MICROSOFT-CDO-BUSYSTATUS:FREE
SEQUENCE:0
CLASS:PUBLIC
PRIORITY:1
DTSTART:20260424T070000Z
DTEND:20260424T080000Z
BEGIN:VALARM
TRIGGER:-PT30M
ACTION:DISPLAY
DESCRIPTION:Reminder for Windows 10 Build 15063
END:VALARM
END:VEVENT
END:VCALENDAR
