BEGIN:VCALENDAR
VERSION:2.0
METHOD:PUBLISH
PRODID:- PBCS IT-News //NONSGML Events //EN
CALSCALE:GREGORIAN
X-WR-CALNAME:ICAL-BLOG
BEGIN:VEVENT
UID:8e9e6e2b-caa3-4583-a015-cb4f62c4b153
DTSTAMP:20260423T183337Z
CREATED:20260423T183337Z
SUMMARY:Patchdays Microsoft alle 2 Wochen
DESCRIPTION:https://wp.pbcs.de/patchdays-microsoft-alle-2-wochen/ - Artikel vom: Sa.\, 11. Juni 2022\, 14:58:51 - #FAQ: An jedem zweiten Mittwoch im Monat: Updates für #Windows und andere Hersteller - FAQ\, Grundlagen und Aufgaben\, sowie Vorschriften\, die zu beachten sind... Q: Warum muss ich Updates installieren? A: Weil sonst Versicherungen die Leistung im Schadenfall kürzen. Wer wissentlich bekannte Sicherheitslücken offen lässt\, handelt grob fahrlässig. Die Philosophie never change a running system hat daher keine Bedeutung. Q: Welche Updates sind betroffen? A: Windows Betriebssysteme und Office auf Clients und auf Terminalservern\, Java Runtime (wenn benötigt)\, Adobe Reader\, Adobe Flash (nur erforderlich\, wenn kein Internet Explorer 11) Q: Wann muss ich sie installieren? A: Windows Updates am 2. Mittwoch jeden Monat (alle Server\, nur die wichtigen Updates)\, Updates anderer Hersteller: etwa alle 2-3 Monate. Zeitpunkt im Heise Sicherheitsticker erkennbar Q: Welche Besonderheiten gibt es? A: Die wichtigsten Zusammenhänge sind in den Schulungsunterlagen beim Thema Updates erläutert. Bezugsquellen der jeweils aktuellen Software der kritischen Drittherstellern: Adobe Reader (nur nachdem Redistributionsvereinbarung auf den Adobe Webseiten geschlossen wurde) ftp://ftp.adobe.com/pub/adobe/reader/win Flash Player (nur auf den Terminalservern. Deinstallieren\, wenn Internet Explorer 11 oder Chrome 64-Bit installiert sind) https://www.adobe.com/de/products/flashplayer/distribution3.html Java Runtime 64 Bit (wenn Internet Explorer 11 installiert\, dann serverseitig nur auf den Terminalservern und auf PCs nur\, wenn Internetseiten Java benötigen) https://java.com/de/download/manual.jsp etwa alle 3 Monate\, ersichtlich im Heise-Ticker: https://www.heisec.de (Post ID:887)
LOCATION:https://wp.pbcs.de
CATEGORIES:Gelbe Kategorie
TRANSP:TRANSPARENT
X-MICROSOFT-CDO-BUSYSTATUS:FREE
SEQUENCE:0
CLASS:PUBLIC
PRIORITY:1
DTSTART:20260424T070000Z
DTEND:20260424T080000Z
BEGIN:VALARM
TRIGGER:-PT30M
ACTION:DISPLAY
DESCRIPTION:Reminder for Patchdays Microsoft alle 2 Wochen
END:VALARM
END:VEVENT
END:VCALENDAR
