BEGIN:VCALENDAR
VERSION:2.0
METHOD:PUBLISH
PRODID:- PBCS IT-News //NONSGML Events //EN
CALSCALE:GREGORIAN
X-WR-CALNAME:ICAL-BLOG
BEGIN:VEVENT
UID:df80af4a-4e60-42f2-b686-457905f94ed2
DTSTAMP:20260423T215947Z
CREATED:20260423T215947Z
SUMMARY:Mercedes me App und Portal
DESCRIPTION:https://wp.pbcs.de/mercedes-me-app-und-portal/ - Artikel vom: Sa.\, 24. Mai 2014\, 12:25:29 - Fehlerkorrektur auf dem Cloudserver der #Mercedes Benz Apps für die 24. Kalenderwoche geplant. Seit der Einführung der App "YELP" funktioniert ja die Steuerung/Wiedergabe (Anzeige des Scrollbars) im Comand-Online Portal mit den NTG5-Geräten nicht mehr. Ausserdem ist seitdem die Google lokale Suche im Navi ohne Funktion. Die Fehler lagen nun\, so heisst es von offizieller Seite\, vermutlich in einer Softwareaktualisierung in der Cloud mit Einführung von YELP. Ab Mitte Juni soll also Comand online wieder funktionieren. Wir werden es zeitnah testen und darüber berichten. (Post ID:851)
LOCATION:https://wp.pbcs.de
CATEGORIES:Gelbe Kategorie
TRANSP:TRANSPARENT
X-MICROSOFT-CDO-BUSYSTATUS:FREE
SEQUENCE:0
CLASS:PUBLIC
PRIORITY:1
DTSTART:20260424T070000Z
DTEND:20260424T080000Z
BEGIN:VALARM
TRIGGER:-PT30M
ACTION:DISPLAY
DESCRIPTION:Reminder for Mercedes me App und Portal
END:VALARM
END:VEVENT
END:VCALENDAR
